BEGIN:VCALENDAR
VERSION:2.0
PRODID:-//Compassionate Alternative Care - ECPv6.15.20//NONSGML v1.0//EN
CALSCALE:GREGORIAN
METHOD:PUBLISH
X-WR-CALNAME:Compassionate Alternative Care
X-ORIGINAL-URL:https://compaltcare.com
X-WR-CALDESC:Events for Compassionate Alternative Care
REFRESH-INTERVAL;VALUE=DURATION:PT1H
X-Robots-Tag:noindex
X-PUBLISHED-TTL:PT1H
BEGIN:VTIMEZONE
TZID:UTC
BEGIN:STANDARD
TZOFFSETFROM:+0000
TZOFFSETTO:+0000
TZNAME:UTC
DTSTART:20220101T000000
END:STANDARD
END:VTIMEZONE
BEGIN:VEVENT
DTSTART;TZID=UTC:20231014T130000
DTEND;TZID=UTC:20231014T170000
DTSTAMP:20260425T153837
CREATED:20231010T215137Z
LAST-MODIFIED:20231010T215137Z
UID:4579-1697288400-1697302800@compaltcare.com
SUMMARY:Medical Marijuana Card Clinic
DESCRIPTION:Reserve your spot for our upcoming clinic 10/14/23 by giving us a call today!
URL:https://compaltcare.com/event/medical-marijuana-card-clinic-100/
LOCATION:Compassionate Alternative Care Jacksonville\, 728 Blanche St\, Suite #111\, Jacksonville\, FL\, 32204\, United States
END:VEVENT
BEGIN:VEVENT
DTSTART;TZID=UTC:20231007T080000
DTEND;TZID=UTC:20231007T170000
DTSTAMP:20260425T153837
CREATED:20231002T180000Z
LAST-MODIFIED:20231002T180000Z
UID:4575-1696665600-1696698000@compaltcare.com
SUMMARY:Medical Marijuana Card Clinic
DESCRIPTION:Reserve your spot for our upcoming clinic 10/7/23 by giving us a call today!
URL:https://compaltcare.com/event/medical-marijuana-card-clinic-99/
LOCATION:Compassionate Alternative Care Jacksonville\, 728 Blanche St\, Suite #111\, Jacksonville\, FL\, 32204\, United States
END:VEVENT
BEGIN:VEVENT
DTSTART;TZID=UTC:20230929T080000
DTEND;TZID=UTC:20230929T170000
DTSTAMP:20260425T153837
CREATED:20230928T182154Z
LAST-MODIFIED:20230928T182154Z
UID:4573-1695974400-1696006800@compaltcare.com
SUMMARY:Medical Marijuana Card Clinic
DESCRIPTION:Reserve your spot for our upcoming clinic 9/29/23 by giving us a call today!
URL:https://compaltcare.com/event/medical-marijuana-card-clinic-98/
LOCATION:Compassionate Alternative Care Jacksonville\, 728 Blanche St\, Suite #111\, Jacksonville\, FL\, 32204\, United States
END:VEVENT
BEGIN:VEVENT
DTSTART;TZID=UTC:20230923T130000
DTEND;TZID=UTC:20230923T170000
DTSTAMP:20260425T153837
CREATED:20230918T180906Z
LAST-MODIFIED:20230920T002213Z
UID:4570-1695474000-1695488400@compaltcare.com
SUMMARY:Medical Marijuana Card Clinic
DESCRIPTION:Reserve your spot for our upcoming clinic 9/22/23 by giving us a call today!
URL:https://compaltcare.com/event/medical-marijuana-card-clinic-97/
LOCATION:Compassionate Alternative Care Jacksonville\, 728 Blanche St\, Suite #111\, Jacksonville\, FL\, 32204\, United States
END:VEVENT
BEGIN:VEVENT
DTSTART;TZID=UTC:20230915T130000
DTEND;TZID=UTC:20230915T170000
DTSTAMP:20260425T153837
CREATED:20230912T151309Z
LAST-MODIFIED:20230912T151309Z
UID:4567-1694782800-1694797200@compaltcare.com
SUMMARY:Medical Marijuana Card Clinic
DESCRIPTION:Reserve your spot for our upcoming clinic 9/15/23 by giving us a call today!
URL:https://compaltcare.com/event/medical-marijuana-card-clinic-96/
LOCATION:Compassionate Alternative Care Jacksonville\, 728 Blanche St\, Suite #111\, Jacksonville\, FL\, 32204\, United States
END:VEVENT
BEGIN:VEVENT
DTSTART;TZID=UTC:20230908T080000
DTEND;TZID=UTC:20230908T170000
DTSTAMP:20260425T153837
CREATED:20230907T151920Z
LAST-MODIFIED:20230907T151920Z
UID:4564-1694160000-1694192400@compaltcare.com
SUMMARY:Medical Marijuana Card Clinic
DESCRIPTION:Reserve your spot for our upcoming clinic 9/8/23 by giving us a call today!
URL:https://compaltcare.com/event/medical-marijuana-card-clinic-95/
LOCATION:Compassionate Alternative Care Jacksonville\, 728 Blanche St\, Suite #111\, Jacksonville\, FL\, 32204\, United States
END:VEVENT
BEGIN:VEVENT
DTSTART;TZID=UTC:20230825T080000
DTEND;TZID=UTC:20230825T170000
DTSTAMP:20260425T153837
CREATED:20230821T183334Z
LAST-MODIFIED:20230821T183334Z
UID:4561-1692950400-1692982800@compaltcare.com
SUMMARY:Medical Marijuana Card Clinic
DESCRIPTION:Reserve your spot for our upcoming clinic 8/25/23 by giving us a call today!
URL:https://compaltcare.com/event/medical-marijuana-card-clinic-94/
LOCATION:Compassionate Alternative Care Jacksonville\, 728 Blanche St\, Suite #111\, Jacksonville\, FL\, 32204\, United States
END:VEVENT
BEGIN:VEVENT
DTSTART;TZID=UTC:20230819T080000
DTEND;TZID=UTC:20230819T170000
DTSTAMP:20260425T153837
CREATED:20230817T160510Z
LAST-MODIFIED:20230817T160510Z
UID:4559-1692432000-1692464400@compaltcare.com
SUMMARY:Medical Marijuana Card Clinic
DESCRIPTION:Reserve your spot for our upcoming clinic 8/4/23 by giving us a call today!
URL:https://compaltcare.com/event/medical-marijuana-card-clinic-93/
LOCATION:Compassionate Alternative Care Jacksonville\, 728 Blanche St\, Suite #111\, Jacksonville\, FL\, 32204\, United States
END:VEVENT
BEGIN:VEVENT
DTSTART;TZID=UTC:20230804T130000
DTEND;TZID=UTC:20230804T170000
DTSTAMP:20260425T153837
CREATED:20230731T201058Z
LAST-MODIFIED:20230731T201058Z
UID:4556-1691154000-1691168400@compaltcare.com
SUMMARY:Medical Marijuana Card Clinic
DESCRIPTION:Reserve your spot for our upcoming clinic 8/4/23 by giving us a call today!
URL:https://compaltcare.com/event/medical-marijuana-card-clinic-92/
LOCATION:Compassionate Alternative Care Jacksonville\, 728 Blanche St\, Suite #111\, Jacksonville\, FL\, 32204\, United States
END:VEVENT
BEGIN:VEVENT
DTSTART;TZID=UTC:20230729T080000
DTEND;TZID=UTC:20230729T170000
DTSTAMP:20260425T153837
CREATED:20230721T185022Z
LAST-MODIFIED:20230721T185022Z
UID:4553-1690617600-1690650000@compaltcare.com
SUMMARY:Medical Marijuana Card Clinic
DESCRIPTION:Reserve your spot for our upcoming clinic 7/29/23 by giving us a call today!
URL:https://compaltcare.com/event/medical-marijuana-card-clinic-91/
LOCATION:Compassionate Alternative Care Jacksonville\, 728 Blanche St\, Suite #111\, Jacksonville\, FL\, 32204\, United States
END:VEVENT
BEGIN:VEVENT
DTSTART;TZID=UTC:20230719T140000
DTEND;TZID=UTC:20230719T160000
DTSTAMP:20260425T153837
CREATED:20230717T173037Z
LAST-MODIFIED:20230717T173037Z
UID:4551-1689775200-1689782400@compaltcare.com
SUMMARY:Medical Marijuana Card Clinic
DESCRIPTION:Reserve your spot for our upcoming clinic 7/19/23 by giving us a call today!
URL:https://compaltcare.com/event/medical-marijuana-card-clinic-90/
LOCATION:FL
END:VEVENT
BEGIN:VEVENT
DTSTART;TZID=UTC:20230714T130000
DTEND;TZID=UTC:20230714T170000
DTSTAMP:20260425T153837
CREATED:20230712T022717Z
LAST-MODIFIED:20230712T022736Z
UID:4547-1689339600-1689354000@compaltcare.com
SUMMARY:Medical Marijuana Card Clinic
DESCRIPTION:Reserve your spot for our upcoming clinic 7/14/23 by giving us a call today!
URL:https://compaltcare.com/event/medical-marijuana-card-clinic-89/
LOCATION:Compassionate Alternative Care Jacksonville\, 728 Blanche St\, Suite #111\, Jacksonville\, FL\, 32204\, United States
END:VEVENT
BEGIN:VEVENT
DTSTART;TZID=UTC:20230709T140000
DTEND;TZID=UTC:20230709T170000
DTSTAMP:20260425T153837
CREATED:20230707T012208Z
LAST-MODIFIED:20230707T012208Z
UID:4545-1688911200-1688922000@compaltcare.com
SUMMARY:Medical Marijuana Card Clinic
DESCRIPTION:Reserve your spot for our upcoming clinic 7/9/23 by giving us a call today!
URL:https://compaltcare.com/event/medical-marijuana-card-clinic-88/
LOCATION:Compassionate Alternative Care Jacksonville\, 728 Blanche St\, Suite #111\, Jacksonville\, FL\, 32204\, United States
END:VEVENT
BEGIN:VEVENT
DTSTART;TZID=UTC:20230630T130000
DTEND;TZID=UTC:20230630T170000
DTSTAMP:20260425T153837
CREATED:20230628T005733Z
LAST-MODIFIED:20230628T005733Z
UID:4541-1688130000-1688144400@compaltcare.com
SUMMARY:Medical Marijuana Card Clinic
DESCRIPTION:Reserve your spot for our upcoming clinic 6/30/23 by giving us a call today!
URL:https://compaltcare.com/event/medical-marijuana-card-clinic-87/
LOCATION:Compassionate Alternative Care Jacksonville\, 728 Blanche St\, Suite #111\, Jacksonville\, FL\, 32204\, United States
END:VEVENT
BEGIN:VEVENT
DTSTART;TZID=UTC:20230624T130000
DTEND;TZID=UTC:20230624T170000
DTSTAMP:20260425T153837
CREATED:20230619T222859Z
LAST-MODIFIED:20230620T120004Z
UID:4444-1687611600-1687626000@compaltcare.com
SUMMARY:Medical Marijuana Card Clinic
DESCRIPTION:Reserve your spot for our upcoming clinic 6/24/23 by giving us a call today!
URL:https://compaltcare.com/event/medical-marijuana-card-clinic-86/
LOCATION:Compassionate Alternative Care Jacksonville\, 728 Blanche St\, Suite #111\, Jacksonville\, FL\, 32204\, United States
END:VEVENT
BEGIN:VEVENT
DTSTART;TZID=UTC:20230616T130000
DTEND;TZID=UTC:20230616T170000
DTSTAMP:20260425T153837
CREATED:20230613T163525Z
LAST-MODIFIED:20230613T163525Z
UID:4442-1686920400-1686934800@compaltcare.com
SUMMARY:Medical Marijuana Card Clinic
DESCRIPTION:Reserve your spot for our upcoming clinic 6/16/23 by giving us a call today!
URL:https://compaltcare.com/event/medical-marijuana-card-clinic-85/
LOCATION:Compassionate Alternative Care Jacksonville\, 728 Blanche St\, Suite #111\, Jacksonville\, FL\, 32204\, United States
END:VEVENT
BEGIN:VEVENT
DTSTART;TZID=UTC:20230610T080000
DTEND;TZID=UTC:20230610T170000
DTSTAMP:20260425T153837
CREATED:20230606T110253Z
LAST-MODIFIED:20230606T110253Z
UID:4437-1686384000-1686416400@compaltcare.com
SUMMARY:Medical Marijuana Card Clinic
DESCRIPTION:Reserve your spot for our upcoming clinic 6/10/23 by giving us a call today!
URL:https://compaltcare.com/event/medical-marijuana-card-clinic-84/
LOCATION:Compassionate Alternative Care Jacksonville\, 728 Blanche St\, Suite #111\, Jacksonville\, FL\, 32204\, United States
END:VEVENT
BEGIN:VEVENT
DTSTART;TZID=UTC:20230602T130000
DTEND;TZID=UTC:20230602T170000
DTSTAMP:20260425T153837
CREATED:20230531T195145Z
LAST-MODIFIED:20230531T195145Z
UID:4435-1685710800-1685725200@compaltcare.com
SUMMARY:Medical Marijuana Card Clinic
DESCRIPTION:Reserve your spot for our upcoming clinic 5/27/23 by giving us a call today!
URL:https://compaltcare.com/event/medical-marijuana-card-clinic-83/
LOCATION:Compassionate Alternative Care Jacksonville\, 728 Blanche St\, Suite #111\, Jacksonville\, FL\, 32204\, United States
END:VEVENT
BEGIN:VEVENT
DTSTART;TZID=UTC:20230527T080000
DTEND;TZID=UTC:20230527T170000
DTSTAMP:20260425T153837
CREATED:20230517T170550Z
LAST-MODIFIED:20230517T170550Z
UID:4432-1685174400-1685206800@compaltcare.com
SUMMARY:Medical Marijuana Card Clinic
DESCRIPTION:Reserve your spot for our upcoming clinic 5/27/23 by giving us a call today!
URL:https://compaltcare.com/event/medical-marijuana-card-clinic-82/
LOCATION:Compassionate Alternative Care Jacksonville\, 728 Blanche St\, Suite #111\, Jacksonville\, FL\, 32204\, United States
END:VEVENT
BEGIN:VEVENT
DTSTART;TZID=UTC:20230519T080000
DTEND;TZID=UTC:20230519T170000
DTSTAMP:20260425T153837
CREATED:20230517T170517Z
LAST-MODIFIED:20230517T170517Z
UID:4430-1684483200-1684515600@compaltcare.com
SUMMARY:Medical Marijuana Card Clinic
DESCRIPTION:Reserve your spot for our upcoming clinic 5/19/23 by giving us a call today!
URL:https://compaltcare.com/event/medical-marijuana-card-clinic-81/
LOCATION:Compassionate Alternative Care Jacksonville\, 728 Blanche St\, Suite #111\, Jacksonville\, FL\, 32204\, United States
END:VEVENT
BEGIN:VEVENT
DTSTART;TZID=UTC:20230506T080000
DTEND;TZID=UTC:20230506T170000
DTSTAMP:20260425T153837
CREATED:20230502T124504Z
LAST-MODIFIED:20230502T124504Z
UID:4427-1683360000-1683392400@compaltcare.com
SUMMARY:Medical Marijuana Card Clinic
DESCRIPTION:Reserve your spot for our upcoming clinic 5/6/23 by giving us a call today! Don’t roll into Easter without your medicine!
URL:https://compaltcare.com/event/medical-marijuana-card-clinic-80/
LOCATION:Compassionate Alternative Care Jacksonville\, 728 Blanche St\, Suite #111\, Jacksonville\, FL\, 32204\, United States
END:VEVENT
BEGIN:VEVENT
DTSTART;TZID=UTC:20230421T110000
DTEND;TZID=UTC:20230421T170000
DTSTAMP:20260425T153837
CREATED:20230412T143338Z
LAST-MODIFIED:20230412T143338Z
UID:4422-1682074800-1682096400@compaltcare.com
SUMMARY:Medical Marijuana Card Clinic
DESCRIPTION:Reserve your spot for our upcoming clinic 4/21/23 by giving us a call today! Don’t roll into Easter without your medicine!
URL:https://compaltcare.com/event/medical-marijuana-card-clinic-79/
LOCATION:Compassionate Alternative Care Jacksonville\, 728 Blanche St\, Suite #111\, Jacksonville\, FL\, 32204\, United States
END:VEVENT
BEGIN:VEVENT
DTSTART;TZID=UTC:20230415T110000
DTEND;TZID=UTC:20230415T170000
DTSTAMP:20260425T153837
CREATED:20230412T143323Z
LAST-MODIFIED:20230412T143323Z
UID:4421-1681556400-1681578000@compaltcare.com
SUMMARY:Medical Marijuana Card Clinic
DESCRIPTION:Reserve your spot for our upcoming clinic 4/15/23 by giving us a call today! Don’t roll into Easter without your medicine!
URL:https://compaltcare.com/event/medical-marijuana-card-clinic-78/
LOCATION:Compassionate Alternative Care Jacksonville\, 728 Blanche St\, Suite #111\, Jacksonville\, FL\, 32204\, United States
END:VEVENT
BEGIN:VEVENT
DTSTART;TZID=UTC:20230408T130000
DTEND;TZID=UTC:20230408T170000
DTSTAMP:20260425T153837
CREATED:20230404T150907Z
LAST-MODIFIED:20230404T151106Z
UID:4416-1680958800-1680973200@compaltcare.com
SUMMARY:Medical Marijuana Card Clinic
DESCRIPTION:Reserve your spot for our upcoming clinic 4/8/23 by giving us a call today! Don’t roll into Easter without your medicine!
URL:https://compaltcare.com/event/medical-marijuana-card-clinic-77/
LOCATION:Compassionate Alternative Care Jacksonville\, 728 Blanche St\, Suite #111\, Jacksonville\, FL\, 32204\, United States
END:VEVENT
BEGIN:VEVENT
DTSTART;TZID=UTC:20230331T130000
DTEND;TZID=UTC:20230331T170000
DTSTAMP:20260425T153837
CREATED:20230328T123608Z
LAST-MODIFIED:20230328T124249Z
UID:4411-1680267600-1680282000@compaltcare.com
SUMMARY:Medical Marijuana Card Clinic
DESCRIPTION:Reserve your spot for our upcoming clinic 3/31/23 by giving us a call today!
URL:https://compaltcare.com/event/medical-marijuana-card-clinic-76/
LOCATION:Compassionate Alternative Care Jacksonville\, 728 Blanche St\, Suite #111\, Jacksonville\, FL\, 32204\, United States
END:VEVENT
BEGIN:VEVENT
DTSTART;TZID=UTC:20230325T080000
DTEND;TZID=UTC:20230325T170000
DTSTAMP:20260425T153837
CREATED:20230320T133934Z
LAST-MODIFIED:20230320T133934Z
UID:4409-1679731200-1679763600@compaltcare.com
SUMMARY:Medical Marijuana Card Clinic
DESCRIPTION:Reserve your spot for our upcoming clinic 3/25/23 by giving us a call today!
URL:https://compaltcare.com/event/medical-marijuana-card-clinic-75/
LOCATION:Compassionate Alternative Care Jacksonville\, 728 Blanche St\, Suite #111\, Jacksonville\, FL\, 32204\, United States
END:VEVENT
BEGIN:VEVENT
DTSTART;TZID=UTC:20230317T130000
DTEND;TZID=UTC:20230317T180000
DTSTAMP:20260425T153837
CREATED:20230313T173714Z
LAST-MODIFIED:20230313T173714Z
UID:4406-1679058000-1679076000@compaltcare.com
SUMMARY:Medical Marijuana Card Clinic
DESCRIPTION:Reserve your spot for our upcoming clinic 3/17/23 by giving us a call today!
URL:https://compaltcare.com/event/medical-marijuana-card-clinic-74/
LOCATION:Compassionate Alternative Care Jacksonville\, 728 Blanche St\, Suite #111\, Jacksonville\, FL\, 32204\, United States
END:VEVENT
BEGIN:VEVENT
DTSTART;TZID=UTC:20230310T080000
DTEND;TZID=UTC:20230310T170000
DTSTAMP:20260425T153837
CREATED:20230309T162130Z
LAST-MODIFIED:20230309T162130Z
UID:4404-1678435200-1678467600@compaltcare.com
SUMMARY:Medical Marijuana Card Clinic
DESCRIPTION:Reserve your spot for our upcoming clinic 3/10/23 by giving us a call today!
URL:https://compaltcare.com/event/medical-marijuana-card-clinic-73/
LOCATION:Compassionate Alternative Care Jacksonville\, 728 Blanche St\, Suite #111\, Jacksonville\, FL\, 32204\, United States
END:VEVENT
BEGIN:VEVENT
DTSTART;TZID=UTC:20230303T080000
DTEND;TZID=UTC:20230303T170000
DTSTAMP:20260425T153837
CREATED:20230228T130023Z
LAST-MODIFIED:20230228T130023Z
UID:4401-1677830400-1677862800@compaltcare.com
SUMMARY:Medical Marijuana Card Clinic
DESCRIPTION:Reserve your spot for our upcoming clinic 3/3/23 by giving us a call today!
URL:https://compaltcare.com/event/medical-marijuana-card-clinic-72/
LOCATION:Compassionate Alternative Care Jacksonville\, 728 Blanche St\, Suite #111\, Jacksonville\, FL\, 32204\, United States
END:VEVENT
BEGIN:VEVENT
DTSTART;TZID=UTC:20230224T130000
DTEND;TZID=UTC:20230224T170000
DTSTAMP:20260425T153837
CREATED:20230218T230546Z
LAST-MODIFIED:20230218T230546Z
UID:4397-1677243600-1677258000@compaltcare.com
SUMMARY:Medical Marijuana Card Clinic
DESCRIPTION:Reserve your spot for our upcoming clinic 2/24/23 by giving us a call today!
URL:https://compaltcare.com/event/medical-marijuana-card-clinic-71/
LOCATION:Compassionate Alternative Care Jacksonville\, 728 Blanche St\, Suite #111\, Jacksonville\, FL\, 32204\, United States
END:VEVENT
END:VCALENDAR