BEGIN:VCALENDAR
VERSION:2.0
PRODID:-//Compassionate Alternative Care - ECPv6.15.20//NONSGML v1.0//EN
CALSCALE:GREGORIAN
METHOD:PUBLISH
X-WR-CALNAME:Compassionate Alternative Care
X-ORIGINAL-URL:https://compaltcare.com
X-WR-CALDESC:Events for Compassionate Alternative Care
REFRESH-INTERVAL;VALUE=DURATION:PT1H
X-Robots-Tag:noindex
X-PUBLISHED-TTL:PT1H
BEGIN:VTIMEZONE
TZID:UTC
BEGIN:STANDARD
TZOFFSETFROM:+0000
TZOFFSETTO:+0000
TZNAME:UTC
DTSTART:20230101T000000
END:STANDARD
END:VTIMEZONE
BEGIN:VEVENT
DTSTART;TZID=UTC:20250703T133000
DTEND;TZID=UTC:20250703T170000
DTSTAMP:20260425T123413
CREATED:20250630T221705Z
LAST-MODIFIED:20250630T221705Z
UID:5788-1751549400-1751562000@compaltcare.com
SUMMARY:Medical Marijuana Card Clinic
DESCRIPTION:Reserve your spot for our upcoming clinic 7/3/25 by giving us a call today!
URL:https://compaltcare.com/event/medical-marijuana-card-clinic-159/
LOCATION:Compassionate Alternative Care West Palm Beach\, 2054 Vista Parkway\, West Palm Beach\, FL\, 33411\, United States
END:VEVENT
BEGIN:VEVENT
DTSTART;TZID=UTC:20250703T133000
DTEND;TZID=UTC:20250703T170000
DTSTAMP:20260425T123413
CREATED:20250630T221557Z
LAST-MODIFIED:20250630T221557Z
UID:5786-1751549400-1751562000@compaltcare.com
SUMMARY:Medical Marijuana Card Clinic
DESCRIPTION:Reserve your spot for our upcoming clinic 7/3/25 by giving us a call today!
URL:https://compaltcare.com/event/medical-marijuana-card-clinic-158/
LOCATION:Compassionate Alternative Care Jacksonville\, 728 Blanche St\, Suite #111\, Jacksonville\, FL\, 32204\, United States
END:VEVENT
BEGIN:VEVENT
DTSTART;TZID=UTC:20250627T133000
DTEND;TZID=UTC:20250627T170000
DTSTAMP:20260425T123413
CREATED:20250624T145142Z
LAST-MODIFIED:20250624T145142Z
UID:5680-1751031000-1751043600@compaltcare.com
SUMMARY:Medical Marijuana Card Clinic
DESCRIPTION:Reserve your spot for our upcoming clinic 6/27/25 by giving us a call today!
URL:https://compaltcare.com/event/medical-marijuana-card-clinic-157/
LOCATION:Compassionate Alternative Care West Palm Beach\, 2054 Vista Parkway\, West Palm Beach\, FL\, 33411\, United States
END:VEVENT
BEGIN:VEVENT
DTSTART;TZID=UTC:20250627T133000
DTEND;TZID=UTC:20250627T170000
DTSTAMP:20260425T123413
CREATED:20250624T145022Z
LAST-MODIFIED:20250624T145022Z
UID:5678-1751031000-1751043600@compaltcare.com
SUMMARY:Medical Marijuana Card Clinic
DESCRIPTION:Reserve your spot for our upcoming clinic 6/27/25 by giving us a call today!
URL:https://compaltcare.com/event/medical-marijuana-card-clinic-156/
LOCATION:Compassionate Alternative Care Jacksonville\, 728 Blanche St\, Suite #111\, Jacksonville\, FL\, 32204\, United States
END:VEVENT
BEGIN:VEVENT
DTSTART;TZID=UTC:20250621T080000
DTEND;TZID=UTC:20250621T170000
DTSTAMP:20260425T123413
CREATED:20250617T153955Z
LAST-MODIFIED:20250617T153955Z
UID:5630-1750492800-1750525200@compaltcare.com
SUMMARY:Medical Marijuana Card Clinic
DESCRIPTION:Reserve your spot for our upcoming clinic 6/21/25 by giving us a call today!
URL:https://compaltcare.com/event/medical-marijuana-card-clinic-155/
LOCATION:Compassionate Alternative Care West Palm Beach\, 2054 Vista Parkway\, West Palm Beach\, FL\, 33411\, United States
END:VEVENT
BEGIN:VEVENT
DTSTART;TZID=UTC:20250621T080000
DTEND;TZID=UTC:20250621T170000
DTSTAMP:20260425T123413
CREATED:20250617T153909Z
LAST-MODIFIED:20250617T153909Z
UID:5628-1750492800-1750525200@compaltcare.com
SUMMARY:Medical Marijuana Card Clinic
DESCRIPTION:Reserve your spot for our upcoming clinic 6/21/25 by giving us a call today!
URL:https://compaltcare.com/event/medical-marijuana-card-clinic-154/
LOCATION:Compassionate Alternative Care Jacksonville\, 728 Blanche St\, Suite #111\, Jacksonville\, FL\, 32204\, United States
END:VEVENT
BEGIN:VEVENT
DTSTART;TZID=UTC:20250612T140000
DTEND;TZID=UTC:20250612T170000
DTSTAMP:20260425T123413
CREATED:20250609T182126Z
LAST-MODIFIED:20250609T182126Z
UID:5562-1749736800-1749747600@compaltcare.com
SUMMARY:Medical Marijuana Card Clinic
DESCRIPTION:Reserve your spot for our upcoming clinic 6/12/25 by giving us a call today!
URL:https://compaltcare.com/event/medical-marijuana-card-clinic-153/
LOCATION:Compassionate Alternative Care West Palm Beach\, 2054 Vista Parkway\, West Palm Beach\, FL\, 33411\, United States
END:VEVENT
BEGIN:VEVENT
DTSTART;TZID=UTC:20250612T140000
DTEND;TZID=UTC:20250612T170000
DTSTAMP:20260425T123413
CREATED:20250609T182029Z
LAST-MODIFIED:20250609T211923Z
UID:5560-1749736800-1749747600@compaltcare.com
SUMMARY:Medical Marijuana Card Clinic
DESCRIPTION:Reserve your spot for our upcoming clinic 6/12/25 by giving us a call today!
URL:https://compaltcare.com/event/medical-marijuana-card-clinic-152/
LOCATION:Compassionate Alternative Care Jacksonville\, 728 Blanche St\, Suite #111\, Jacksonville\, FL\, 32204\, United States
END:VEVENT
BEGIN:VEVENT
DTSTART;TZID=UTC:20250607T133000
DTEND;TZID=UTC:20250607T170000
DTSTAMP:20260425T123413
CREATED:20250527T205313Z
LAST-MODIFIED:20250527T205410Z
UID:5474-1749303000-1749315600@compaltcare.com
SUMMARY:Medical Marijuana Card Clinic
DESCRIPTION:Reserve your spot for our upcoming clinic 6/07/25 by giving us a call today!
URL:https://compaltcare.com/event/medical-marijuana-card-clinic-151/
LOCATION:Compassionate Alternative Care West Palm Beach\, 2054 Vista Parkway\, West Palm Beach\, FL\, 33411\, United States
END:VEVENT
BEGIN:VEVENT
DTSTART;TZID=UTC:20250607T133000
DTEND;TZID=UTC:20250607T170000
DTSTAMP:20260425T123413
CREATED:20250527T205143Z
LAST-MODIFIED:20250527T205531Z
UID:5472-1749303000-1749315600@compaltcare.com
SUMMARY:Medical Marijuana Card Clinic
DESCRIPTION:Reserve your spot for our upcoming clinic 6/07/25 by giving us a call today!
URL:https://compaltcare.com/event/medical-marijuana-card-clinic-150/
LOCATION:Compassionate Alternative Care Jacksonville\, 728 Blanche St\, Suite #111\, Jacksonville\, FL\, 32204\, United States
END:VEVENT
BEGIN:VEVENT
DTSTART;TZID=UTC:20250529T133000
DTEND;TZID=UTC:20250529T170000
DTSTAMP:20260425T123413
CREATED:20250527T205001Z
LAST-MODIFIED:20250527T205508Z
UID:5470-1748525400-1748538000@compaltcare.com
SUMMARY:Medical Marijuana Card Clinic
DESCRIPTION:Reserve your spot for our upcoming clinic 5/29/25 by giving us a call today!
URL:https://compaltcare.com/event/medical-marijuana-card-clinic-149/
LOCATION:Compassionate Alternative Care West Palm Beach\, 2054 Vista Parkway\, West Palm Beach\, FL\, 33411\, United States
END:VEVENT
BEGIN:VEVENT
DTSTART;TZID=UTC:20250529T133000
DTEND;TZID=UTC:20250529T170000
DTSTAMP:20260425T123413
CREATED:20250527T204052Z
LAST-MODIFIED:20250527T205551Z
UID:5468-1748525400-1748538000@compaltcare.com
SUMMARY:Medical Marijuana Card Clinic
DESCRIPTION:Reserve your spot for our upcoming clinic 5/29/25 by giving us a call today!
URL:https://compaltcare.com/event/medical-marijuana-card-clinic-148/
LOCATION:Compassionate Alternative Care Jacksonville\, 728 Blanche St\, Suite #111\, Jacksonville\, FL\, 32204\, United States
END:VEVENT
BEGIN:VEVENT
DTSTART;TZID=UTC:20250524T130000
DTEND;TZID=UTC:20250524T170000
DTSTAMP:20260425T123413
CREATED:20250520T160742Z
LAST-MODIFIED:20250520T160742Z
UID:5447-1748091600-1748106000@compaltcare.com
SUMMARY:Medical Marijuana Card Clinic
DESCRIPTION:Reserve your spot for our upcoming clinic 1/24/25 by giving us a call today!
URL:https://compaltcare.com/event/medical-marijuana-card-clinic-147/
LOCATION:Compassionate Alternative Care West Palm Beach\, 2054 Vista Parkway\, West Palm Beach\, FL\, 33411\, United States
END:VEVENT
BEGIN:VEVENT
DTSTART;TZID=UTC:20250524T130000
DTEND;TZID=UTC:20250524T170000
DTSTAMP:20260425T123413
CREATED:20250520T160654Z
LAST-MODIFIED:20250520T160654Z
UID:5445-1748091600-1748106000@compaltcare.com
SUMMARY:Medical Marijuana Card Clinic
DESCRIPTION:Reserve your spot for our upcoming clinic 1/24/25 by giving us a call today!
URL:https://compaltcare.com/event/medical-marijuana-card-clinic-146/
LOCATION:Compassionate Alternative Care Jacksonville\, 728 Blanche St\, Suite #111\, Jacksonville\, FL\, 32204\, United States
END:VEVENT
BEGIN:VEVENT
DTSTART;TZID=UTC:20250516T130000
DTEND;TZID=UTC:20250516T173000
DTSTAMP:20260425T123413
CREATED:20250512T172907Z
LAST-MODIFIED:20250512T173355Z
UID:5352-1747400400-1747416600@compaltcare.com
SUMMARY:Medical Marijuana Card Clinic
DESCRIPTION:Reserve your spot for our upcoming clinic 1/16/25 by giving us a call today!
URL:https://compaltcare.com/event/medical-marijuana-card-clinic-145/
LOCATION:Compassionate Alternative Care Jacksonville\, 728 Blanche St\, Suite #111\, Jacksonville\, FL\, 32204\, United States
END:VEVENT
BEGIN:VEVENT
DTSTART;TZID=UTC:20250516T130000
DTEND;TZID=UTC:20250516T170000
DTSTAMP:20260425T123413
CREATED:20250512T173014Z
LAST-MODIFIED:20250512T173300Z
UID:5356-1747400400-1747414800@compaltcare.com
SUMMARY:Medical Marijuana Card Clinic
DESCRIPTION:Reserve your spot for our upcoming clinic 1/16/25 by giving us a call today!
URL:https://compaltcare.com/event/medical-marijuana-clinic-2/
LOCATION:Compassionate Alternative Care West Palm Beach\, 2054 Vista Parkway\, West Palm Beach\, FL\, 33411\, United States
END:VEVENT
BEGIN:VEVENT
DTSTART;TZID=UTC:20250510T140000
DTEND;TZID=UTC:20250510T173000
DTSTAMP:20260425T123413
CREATED:20250505T210846Z
LAST-MODIFIED:20250505T210846Z
UID:4860-1746885600-1746898200@compaltcare.com
SUMMARY:Medical Marijuana Card Clinic
DESCRIPTION:Reserve your spot for our upcoming clinic 1/10/25 by giving us a call today!
URL:https://compaltcare.com/event/medical-marijuana-card-clinic-144/
LOCATION:Compassionate Alternative Care West Palm Beach\, 2054 Vista Parkway\, West Palm Beach\, FL\, 33411\, United States
END:VEVENT
BEGIN:VEVENT
DTSTART;TZID=UTC:20250510T140000
DTEND;TZID=UTC:20250510T173000
DTSTAMP:20260425T123413
CREATED:20250107T190222Z
LAST-MODIFIED:20250505T210739Z
UID:4732-1746885600-1746898200@compaltcare.com
SUMMARY:Medical Marijuana Card Clinic
DESCRIPTION:Reserve your spot for our upcoming clinic 1/10/25 by giving us a call today!
URL:https://compaltcare.com/event/medical-marijuana-card-clinic-143/
LOCATION:Compassionate Alternative Care Jacksonville\, 728 Blanche St\, Suite #111\, Jacksonville\, FL\, 32204\, United States
END:VEVENT
BEGIN:VEVENT
DTSTART;TZID=UTC:20241206T133000
DTEND;TZID=UTC:20241206T170000
DTSTAMP:20260425T123413
CREATED:20241203T000052Z
LAST-MODIFIED:20241203T000052Z
UID:4728-1733491800-1733504400@compaltcare.com
SUMMARY:Medical Marijuana Card Clinic
DESCRIPTION:Reserve your spot for our upcoming clinic 12/6/24 by giving us a call today!
URL:https://compaltcare.com/event/medical-marijuana-card-clinic-142/
LOCATION:Compassionate Alternative Care Jacksonville\, 728 Blanche St\, Suite #111\, Jacksonville\, FL\, 32204\, United States
END:VEVENT
BEGIN:VEVENT
DTSTART;TZID=UTC:20241115T133000
DTEND;TZID=UTC:20241115T170000
DTSTAMP:20260425T123413
CREATED:20241113T013100Z
LAST-MODIFIED:20241113T013100Z
UID:4725-1731677400-1731690000@compaltcare.com
SUMMARY:Medical Marijuana Card Clinic
DESCRIPTION:Reserve your spot for our upcoming clinic 11/15/24 by giving us a call today!
URL:https://compaltcare.com/event/medical-marijuana-card-clinic-141/
LOCATION:Compassionate Alternative Care Jacksonville\, 728 Blanche St\, Suite #111\, Jacksonville\, FL\, 32204\, United States
END:VEVENT
BEGIN:VEVENT
DTSTART;TZID=UTC:20241101T133000
DTEND;TZID=UTC:20241101T170000
DTSTAMP:20260425T123413
CREATED:20241030T191845Z
LAST-MODIFIED:20241030T191845Z
UID:4722-1730467800-1730480400@compaltcare.com
SUMMARY:Medical Marijuana Card Clinic
DESCRIPTION:Reserve your spot for our upcoming clinic 11/1/24 by giving us a call today!
URL:https://compaltcare.com/event/medical-marijuana-card-clinic-140/
LOCATION:Compassionate Alternative Care Jacksonville\, 728 Blanche St\, Suite #111\, Jacksonville\, FL\, 32204\, United States
END:VEVENT
BEGIN:VEVENT
DTSTART;TZID=UTC:20241025T130000
DTEND;TZID=UTC:20241025T170000
DTSTAMP:20260425T123413
CREATED:20241021T231232Z
LAST-MODIFIED:20241021T231232Z
UID:4719-1729861200-1729875600@compaltcare.com
SUMMARY:Medical Marijuana Card Clinic
DESCRIPTION:Reserve your spot for our upcoming clinic 10/25/24 by giving us a call today!
URL:https://compaltcare.com/event/medical-marijuana-card-clinic-139/
LOCATION:Compassionate Alternative Care Jacksonville\, 728 Blanche St\, Suite #111\, Jacksonville\, FL\, 32204\, United States
END:VEVENT
BEGIN:VEVENT
DTSTART;TZID=UTC:20241019T130000
DTEND;TZID=UTC:20241019T170000
DTSTAMP:20260425T123413
CREATED:20241015T031141Z
LAST-MODIFIED:20241015T031141Z
UID:4717-1729342800-1729357200@compaltcare.com
SUMMARY:Medical Marijuana Card Clinic
DESCRIPTION:Reserve your spot for our upcoming clinic 10/19/24 by giving us a call today!
URL:https://compaltcare.com/event/medical-marijuana-card-clinic-138/
LOCATION:Compassionate Alternative Care Jacksonville\, 728 Blanche St\, Suite #111\, Jacksonville\, FL\, 32204\, United States
END:VEVENT
BEGIN:VEVENT
DTSTART;TZID=UTC:20241005T133000
DTEND;TZID=UTC:20241005T170000
DTSTAMP:20260425T123413
CREATED:20240930T231055Z
LAST-MODIFIED:20240930T231055Z
UID:4714-1728135000-1728147600@compaltcare.com
SUMMARY:Medical Marijuana Card Clinic
DESCRIPTION:Reserve your spot for our upcoming clinic 9/26/24 by giving us a call today!
URL:https://compaltcare.com/event/medical-marijuana-card-clinic-137/
LOCATION:Compassionate Alternative Care Jacksonville\, 728 Blanche St\, Suite #111\, Jacksonville\, FL\, 32204\, United States
END:VEVENT
BEGIN:VEVENT
DTSTART;TZID=UTC:20240926T133000
DTEND;TZID=UTC:20240926T170000
DTSTAMP:20260425T123413
CREATED:20240923T231606Z
LAST-MODIFIED:20240923T231606Z
UID:4712-1727357400-1727370000@compaltcare.com
SUMMARY:Medical Marijuana Card Clinic
DESCRIPTION:Reserve your spot for our upcoming clinic 9/26/24 by giving us a call today!
URL:https://compaltcare.com/event/medical-marijuana-card-clinic-136/
LOCATION:Compassionate Alternative Care Jacksonville\, 728 Blanche St\, Suite #111\, Jacksonville\, FL\, 32204\, United States
END:VEVENT
BEGIN:VEVENT
DTSTART;TZID=UTC:20240920T133000
DTEND;TZID=UTC:20240920T170000
DTSTAMP:20260425T123413
CREATED:20240916T210008Z
LAST-MODIFIED:20240916T210008Z
UID:4709-1726839000-1726851600@compaltcare.com
SUMMARY:Medical Marijuana Card Clinic
DESCRIPTION:Reserve your spot for our upcoming clinic 9/20/24 by giving us a call today!
URL:https://compaltcare.com/event/medical-marijuana-card-clinic-135/
LOCATION:Compassionate Alternative Care Jacksonville\, 728 Blanche St\, Suite #111\, Jacksonville\, FL\, 32204\, United States
END:VEVENT
BEGIN:VEVENT
DTSTART;TZID=UTC:20240913T133000
DTEND;TZID=UTC:20240913T170000
DTSTAMP:20260425T123413
CREATED:20240909T215355Z
LAST-MODIFIED:20240909T215355Z
UID:4707-1726234200-1726246800@compaltcare.com
SUMMARY:Medical Marijuana Card Clinic
DESCRIPTION:Reserve your spot for our upcoming clinic 9/13/24 by giving us a call today!
URL:https://compaltcare.com/event/medical-marijuana-card-clinic-134/
LOCATION:Compassionate Alternative Care Jacksonville\, 728 Blanche St\, Suite #111\, Jacksonville\, FL\, 32204\, United States
END:VEVENT
BEGIN:VEVENT
DTSTART;TZID=UTC:20240823T140000
DTEND;TZID=UTC:20240823T170000
DTSTAMP:20260425T123413
CREATED:20240819T221938Z
LAST-MODIFIED:20240819T221938Z
UID:4704-1724421600-1724432400@compaltcare.com
SUMMARY:Medical Marijuana Card Clinic
DESCRIPTION:Reserve your spot for our upcoming clinic 8/23/24 by giving us a call today!
URL:https://compaltcare.com/event/medical-marijuana-card-clinic-133/
LOCATION:Compassionate Alternative Care Jacksonville\, 728 Blanche St\, Suite #111\, Jacksonville\, FL\, 32204\, United States
END:VEVENT
BEGIN:VEVENT
DTSTART;TZID=UTC:20240815T130000
DTEND;TZID=UTC:20240815T170000
DTSTAMP:20260425T123413
CREATED:20240812T221645Z
LAST-MODIFIED:20240812T221645Z
UID:4701-1723726800-1723741200@compaltcare.com
SUMMARY:Medical Marijuana Card Clinic
DESCRIPTION:Reserve your spot for our upcoming clinic 8/15/24 by giving us a call today!
URL:https://compaltcare.com/event/medical-marijuana-card-clinic-132/
LOCATION:Compassionate Alternative Care Jacksonville\, 728 Blanche St\, Suite #111\, Jacksonville\, FL\, 32204\, United States
END:VEVENT
BEGIN:VEVENT
DTSTART;TZID=UTC:20240809T133000
DTEND;TZID=UTC:20240809T170000
DTSTAMP:20260425T123413
CREATED:20240805T152647Z
LAST-MODIFIED:20240805T152647Z
UID:4699-1723210200-1723222800@compaltcare.com
SUMMARY:Medical Marijuana Card Clinic
DESCRIPTION:Reserve your spot for our upcoming clinic 8/9/24 by giving us a call today!
URL:https://compaltcare.com/event/medical-marijuana-card-clinic-131/
LOCATION:Compassionate Alternative Care Jacksonville\, 728 Blanche St\, Suite #111\, Jacksonville\, FL\, 32204\, United States
END:VEVENT
END:VCALENDAR