BEGIN:VCALENDAR
VERSION:2.0
PRODID:-//Compassionate Alternative Care - ECPv6.15.20//NONSGML v1.0//EN
CALSCALE:GREGORIAN
METHOD:PUBLISH
X-WR-CALNAME:Compassionate Alternative Care
X-ORIGINAL-URL:https://compaltcare.com
X-WR-CALDESC:Events for Compassionate Alternative Care
REFRESH-INTERVAL;VALUE=DURATION:PT1H
X-Robots-Tag:noindex
X-PUBLISHED-TTL:PT1H
BEGIN:VTIMEZONE
TZID:UTC
BEGIN:STANDARD
TZOFFSETFROM:+0000
TZOFFSETTO:+0000
TZNAME:UTC
DTSTART:20240101T000000
END:STANDARD
END:VTIMEZONE
BEGIN:VEVENT
DTSTART;TZID=UTC:20250829T130000
DTEND;TZID=UTC:20250829T170000
DTSTAMP:20260425T110418
CREATED:20250823T154656Z
LAST-MODIFIED:20250823T154656Z
UID:6342-1756472400-1756486800@compaltcare.com
SUMMARY:Medical Marijuana Card Clinic
DESCRIPTION:Reserve your spot for our upcoming clinic 8/29/25 by giving us a call today!
URL:https://compaltcare.com/event/medical-marijuana-card-clinic-171/
LOCATION:Compassionate Alternative Care West Palm Beach\, 2054 Vista Parkway\, West Palm Beach\, FL\, 33411\, United States
ATTACH;FMTTYPE=image/jpeg:https://compaltcare.com/wp-content/uploads/2025/05/CompAltCare-Logo-scaled.jpg
END:VEVENT
BEGIN:VEVENT
DTSTART;TZID=UTC:20250829T130000
DTEND;TZID=UTC:20250829T170000
DTSTAMP:20260425T110418
CREATED:20250823T154608Z
LAST-MODIFIED:20250823T154608Z
UID:6340-1756472400-1756486800@compaltcare.com
SUMMARY:Medical Marijuana Card Clinic
DESCRIPTION:Reserve your spot for our upcoming clinic 8/29/25 by giving us a call today!
URL:https://compaltcare.com/event/medical-marijuana-card-clinic-170/
LOCATION:Compassionate Alternative Care Jacksonville\, 728 Blanche St\, Suite #111\, Jacksonville\, FL\, 32204\, United States
ATTACH;FMTTYPE=image/jpeg:https://compaltcare.com/wp-content/uploads/2025/05/CompAltCare-Logo-scaled.jpg
END:VEVENT
BEGIN:VEVENT
DTSTART;TZID=UTC:20250822T130000
DTEND;TZID=UTC:20250822T170000
DTSTAMP:20260425T110418
CREATED:20250819T161423Z
LAST-MODIFIED:20250819T161423Z
UID:6292-1755867600-1755882000@compaltcare.com
SUMMARY:Medical Marijuana Card Clinic
DESCRIPTION:Reserve your spot for our upcoming clinic 8/22/25 by giving us a call today!
URL:https://compaltcare.com/event/medical-marijuana-card-clinic-168/
LOCATION:Compassionate Alternative Care Jacksonville\, 728 Blanche St\, Suite #111\, Jacksonville\, FL\, 32204\, United States
ATTACH;FMTTYPE=image/jpeg:https://compaltcare.com/wp-content/uploads/2025/05/CompAltCare-Logo-scaled.jpg
END:VEVENT
BEGIN:VEVENT
DTSTART;TZID=UTC:20250819T130000
DTEND;TZID=UTC:20250819T170000
DTSTAMP:20260425T110418
CREATED:20250819T161515Z
LAST-MODIFIED:20250819T161516Z
UID:6294-1755608400-1755622800@compaltcare.com
SUMMARY:Medical Marijuana Card Clinic
DESCRIPTION:Reserve your spot for our upcoming clinic 8/22/25 by giving us a call today!
URL:https://compaltcare.com/event/medical-marijuana-card-clinic-169/
LOCATION:Compassionate Alternative Care West Palm Beach\, 2054 Vista Parkway\, West Palm Beach\, FL\, 33411\, United States
ATTACH;FMTTYPE=image/jpeg:https://compaltcare.com/wp-content/uploads/2025/05/CompAltCare-Logo-scaled.jpg
END:VEVENT
BEGIN:VEVENT
DTSTART;TZID=UTC:20250801T133000
DTEND;TZID=UTC:20250801T170000
DTSTAMP:20260425T110418
CREATED:20250729T124918Z
LAST-MODIFIED:20250729T124926Z
UID:6200-1754055000-1754067600@compaltcare.com
SUMMARY:Medical Marijuana Card Clinic
DESCRIPTION:Reserve your spot for our upcoming clinic 8/01/25 by giving us a call today!
URL:https://compaltcare.com/event/medical-marijuana-card-clinic-167/
LOCATION:Compassionate Alternative Care West Palm Beach\, 2054 Vista Parkway\, West Palm Beach\, FL\, 33411\, United States
ATTACH;FMTTYPE=image/jpeg:https://compaltcare.com/wp-content/uploads/2025/05/CompAltCare-Logo-scaled.jpg
END:VEVENT
BEGIN:VEVENT
DTSTART;TZID=UTC:20250801T133000
DTEND;TZID=UTC:20250801T170000
DTSTAMP:20260425T110418
CREATED:20250729T124825Z
LAST-MODIFIED:20250729T124946Z
UID:6198-1754055000-1754067600@compaltcare.com
SUMMARY:Medical Marijuana Card Clinic
DESCRIPTION:Reserve your spot for our upcoming clinic 8/01/25 by giving us a call today!
URL:https://compaltcare.com/event/medical-marijuana-card-clinic-166/
LOCATION:Compassionate Alternative Care Jacksonville\, 728 Blanche St\, Suite #111\, Jacksonville\, FL\, 32204\, United States
ATTACH;FMTTYPE=image/jpeg:https://compaltcare.com/wp-content/uploads/2025/05/CompAltCare-Logo-scaled.jpg
END:VEVENT
BEGIN:VEVENT
DTSTART;TZID=UTC:20250725T130000
DTEND;TZID=UTC:20250725T170000
DTSTAMP:20260425T110418
CREATED:20250722T125016Z
LAST-MODIFIED:20250722T125444Z
UID:6173-1753448400-1753462800@compaltcare.com
SUMMARY:Medical Marijuana Card Clinic
DESCRIPTION:Reserve your spot for our upcoming clinic 7/25/25 by giving us a call today!
URL:https://compaltcare.com/event/medical-marijuana-card-clinic-165/
LOCATION:Compassionate Alternative Care West Palm Beach\, 2054 Vista Parkway\, West Palm Beach\, FL\, 33411\, United States
ATTACH;FMTTYPE=image/jpeg:https://compaltcare.com/wp-content/uploads/2025/05/CompAltCare-Logo-scaled.jpg
END:VEVENT
BEGIN:VEVENT
DTSTART;TZID=UTC:20250725T130000
DTEND;TZID=UTC:20250725T170000
DTSTAMP:20260425T110418
CREATED:20250722T124859Z
LAST-MODIFIED:20250722T124900Z
UID:6171-1753448400-1753462800@compaltcare.com
SUMMARY:Medical Marijuana Card Clinic
DESCRIPTION:Reserve your spot for our upcoming clinic 7/25/25 by giving us a call today!
URL:https://compaltcare.com/event/medical-marijuana-card-clinic-164/
LOCATION:Compassionate Alternative Care Jacksonville\, 728 Blanche St\, Suite #111\, Jacksonville\, FL\, 32204\, United States
ATTACH;FMTTYPE=image/jpeg:https://compaltcare.com/wp-content/uploads/2025/05/CompAltCare-Logo-scaled.jpg
END:VEVENT
BEGIN:VEVENT
DTSTART;TZID=UTC:20250718T133000
DTEND;TZID=UTC:20250718T170000
DTSTAMP:20260425T110418
CREATED:20250715T202725Z
LAST-MODIFIED:20250715T202725Z
UID:6061-1752845400-1752858000@compaltcare.com
SUMMARY:Medical Marijuana Card Clinic
DESCRIPTION:Reserve your spot for our upcoming clinic 7/18/25 by giving us a call today!
URL:https://compaltcare.com/event/medical-marijuana-card-clinic-163/
LOCATION:Compassionate Alternative Care West Palm Beach\, 2054 Vista Parkway\, West Palm Beach\, FL\, 33411\, United States
END:VEVENT
BEGIN:VEVENT
DTSTART;TZID=UTC:20250718T133000
DTEND;TZID=UTC:20250718T170000
DTSTAMP:20260425T110418
CREATED:20250715T202349Z
LAST-MODIFIED:20250715T202610Z
UID:6059-1752845400-1752858000@compaltcare.com
SUMMARY:Medical Marijuana Card Clinic
DESCRIPTION:Reserve your spot for our upcoming clinic 7/18/25 by giving us a call today!
URL:https://compaltcare.com/event/medical-marijuana-card-clinic-162/
LOCATION:Compassionate Alternative Care Jacksonville\, 728 Blanche St\, Suite #111\, Jacksonville\, FL\, 32204\, United States
END:VEVENT
BEGIN:VEVENT
DTSTART;TZID=UTC:20250711T130000
DTEND;TZID=UTC:20250711T170000
DTSTAMP:20260425T110418
CREATED:20250708T154022Z
LAST-MODIFIED:20250708T154022Z
UID:5980-1752238800-1752253200@compaltcare.com
SUMMARY:Medical Marijuana Card Clinic
DESCRIPTION:Reserve your spot for our upcoming clinic 7/11/25 by giving us a call today!
URL:https://compaltcare.com/event/medical-marijuana-card-clinic-160/
LOCATION:Compassionate Alternative Care Jacksonville\, 728 Blanche St\, Suite #111\, Jacksonville\, FL\, 32204\, United States
END:VEVENT
BEGIN:VEVENT
DTSTART;TZID=UTC:20250711T080000
DTEND;TZID=UTC:20250711T170000
DTSTAMP:20260425T110418
CREATED:20250708T154120Z
LAST-MODIFIED:20250708T154120Z
UID:5983-1752220800-1752253200@compaltcare.com
SUMMARY:Medical Marijuana Card Clinic
DESCRIPTION:Reserve your spot for our upcoming clinic 7/11/25 by giving us a call today!
URL:https://compaltcare.com/event/medical-marijuana-card-clinic-161/
LOCATION:Compassionate Alternative Care West Palm Beach\, 2054 Vista Parkway\, West Palm Beach\, FL\, 33411\, United States
END:VEVENT
BEGIN:VEVENT
DTSTART;TZID=UTC:20250703T133000
DTEND;TZID=UTC:20250703T170000
DTSTAMP:20260425T110418
CREATED:20250630T221705Z
LAST-MODIFIED:20250630T221705Z
UID:5788-1751549400-1751562000@compaltcare.com
SUMMARY:Medical Marijuana Card Clinic
DESCRIPTION:Reserve your spot for our upcoming clinic 7/3/25 by giving us a call today!
URL:https://compaltcare.com/event/medical-marijuana-card-clinic-159/
LOCATION:Compassionate Alternative Care West Palm Beach\, 2054 Vista Parkway\, West Palm Beach\, FL\, 33411\, United States
END:VEVENT
BEGIN:VEVENT
DTSTART;TZID=UTC:20250703T133000
DTEND;TZID=UTC:20250703T170000
DTSTAMP:20260425T110418
CREATED:20250630T221557Z
LAST-MODIFIED:20250630T221557Z
UID:5786-1751549400-1751562000@compaltcare.com
SUMMARY:Medical Marijuana Card Clinic
DESCRIPTION:Reserve your spot for our upcoming clinic 7/3/25 by giving us a call today!
URL:https://compaltcare.com/event/medical-marijuana-card-clinic-158/
LOCATION:Compassionate Alternative Care Jacksonville\, 728 Blanche St\, Suite #111\, Jacksonville\, FL\, 32204\, United States
END:VEVENT
BEGIN:VEVENT
DTSTART;TZID=UTC:20250627T133000
DTEND;TZID=UTC:20250627T170000
DTSTAMP:20260425T110418
CREATED:20250624T145142Z
LAST-MODIFIED:20250624T145142Z
UID:5680-1751031000-1751043600@compaltcare.com
SUMMARY:Medical Marijuana Card Clinic
DESCRIPTION:Reserve your spot for our upcoming clinic 6/27/25 by giving us a call today!
URL:https://compaltcare.com/event/medical-marijuana-card-clinic-157/
LOCATION:Compassionate Alternative Care West Palm Beach\, 2054 Vista Parkway\, West Palm Beach\, FL\, 33411\, United States
END:VEVENT
BEGIN:VEVENT
DTSTART;TZID=UTC:20250627T133000
DTEND;TZID=UTC:20250627T170000
DTSTAMP:20260425T110418
CREATED:20250624T145022Z
LAST-MODIFIED:20250624T145022Z
UID:5678-1751031000-1751043600@compaltcare.com
SUMMARY:Medical Marijuana Card Clinic
DESCRIPTION:Reserve your spot for our upcoming clinic 6/27/25 by giving us a call today!
URL:https://compaltcare.com/event/medical-marijuana-card-clinic-156/
LOCATION:Compassionate Alternative Care Jacksonville\, 728 Blanche St\, Suite #111\, Jacksonville\, FL\, 32204\, United States
END:VEVENT
BEGIN:VEVENT
DTSTART;TZID=UTC:20250621T080000
DTEND;TZID=UTC:20250621T170000
DTSTAMP:20260425T110418
CREATED:20250617T153955Z
LAST-MODIFIED:20250617T153955Z
UID:5630-1750492800-1750525200@compaltcare.com
SUMMARY:Medical Marijuana Card Clinic
DESCRIPTION:Reserve your spot for our upcoming clinic 6/21/25 by giving us a call today!
URL:https://compaltcare.com/event/medical-marijuana-card-clinic-155/
LOCATION:Compassionate Alternative Care West Palm Beach\, 2054 Vista Parkway\, West Palm Beach\, FL\, 33411\, United States
END:VEVENT
BEGIN:VEVENT
DTSTART;TZID=UTC:20250621T080000
DTEND;TZID=UTC:20250621T170000
DTSTAMP:20260425T110418
CREATED:20250617T153909Z
LAST-MODIFIED:20250617T153909Z
UID:5628-1750492800-1750525200@compaltcare.com
SUMMARY:Medical Marijuana Card Clinic
DESCRIPTION:Reserve your spot for our upcoming clinic 6/21/25 by giving us a call today!
URL:https://compaltcare.com/event/medical-marijuana-card-clinic-154/
LOCATION:Compassionate Alternative Care Jacksonville\, 728 Blanche St\, Suite #111\, Jacksonville\, FL\, 32204\, United States
END:VEVENT
BEGIN:VEVENT
DTSTART;TZID=UTC:20250612T140000
DTEND;TZID=UTC:20250612T170000
DTSTAMP:20260425T110418
CREATED:20250609T182126Z
LAST-MODIFIED:20250609T182126Z
UID:5562-1749736800-1749747600@compaltcare.com
SUMMARY:Medical Marijuana Card Clinic
DESCRIPTION:Reserve your spot for our upcoming clinic 6/12/25 by giving us a call today!
URL:https://compaltcare.com/event/medical-marijuana-card-clinic-153/
LOCATION:Compassionate Alternative Care West Palm Beach\, 2054 Vista Parkway\, West Palm Beach\, FL\, 33411\, United States
END:VEVENT
BEGIN:VEVENT
DTSTART;TZID=UTC:20250612T140000
DTEND;TZID=UTC:20250612T170000
DTSTAMP:20260425T110418
CREATED:20250609T182029Z
LAST-MODIFIED:20250609T211923Z
UID:5560-1749736800-1749747600@compaltcare.com
SUMMARY:Medical Marijuana Card Clinic
DESCRIPTION:Reserve your spot for our upcoming clinic 6/12/25 by giving us a call today!
URL:https://compaltcare.com/event/medical-marijuana-card-clinic-152/
LOCATION:Compassionate Alternative Care Jacksonville\, 728 Blanche St\, Suite #111\, Jacksonville\, FL\, 32204\, United States
END:VEVENT
BEGIN:VEVENT
DTSTART;TZID=UTC:20250607T133000
DTEND;TZID=UTC:20250607T170000
DTSTAMP:20260425T110418
CREATED:20250527T205313Z
LAST-MODIFIED:20250527T205410Z
UID:5474-1749303000-1749315600@compaltcare.com
SUMMARY:Medical Marijuana Card Clinic
DESCRIPTION:Reserve your spot for our upcoming clinic 6/07/25 by giving us a call today!
URL:https://compaltcare.com/event/medical-marijuana-card-clinic-151/
LOCATION:Compassionate Alternative Care West Palm Beach\, 2054 Vista Parkway\, West Palm Beach\, FL\, 33411\, United States
END:VEVENT
BEGIN:VEVENT
DTSTART;TZID=UTC:20250607T133000
DTEND;TZID=UTC:20250607T170000
DTSTAMP:20260425T110418
CREATED:20250527T205143Z
LAST-MODIFIED:20250527T205531Z
UID:5472-1749303000-1749315600@compaltcare.com
SUMMARY:Medical Marijuana Card Clinic
DESCRIPTION:Reserve your spot for our upcoming clinic 6/07/25 by giving us a call today!
URL:https://compaltcare.com/event/medical-marijuana-card-clinic-150/
LOCATION:Compassionate Alternative Care Jacksonville\, 728 Blanche St\, Suite #111\, Jacksonville\, FL\, 32204\, United States
END:VEVENT
BEGIN:VEVENT
DTSTART;TZID=UTC:20250529T133000
DTEND;TZID=UTC:20250529T170000
DTSTAMP:20260425T110418
CREATED:20250527T205001Z
LAST-MODIFIED:20250527T205508Z
UID:5470-1748525400-1748538000@compaltcare.com
SUMMARY:Medical Marijuana Card Clinic
DESCRIPTION:Reserve your spot for our upcoming clinic 5/29/25 by giving us a call today!
URL:https://compaltcare.com/event/medical-marijuana-card-clinic-149/
LOCATION:Compassionate Alternative Care West Palm Beach\, 2054 Vista Parkway\, West Palm Beach\, FL\, 33411\, United States
END:VEVENT
BEGIN:VEVENT
DTSTART;TZID=UTC:20250529T133000
DTEND;TZID=UTC:20250529T170000
DTSTAMP:20260425T110418
CREATED:20250527T204052Z
LAST-MODIFIED:20250527T205551Z
UID:5468-1748525400-1748538000@compaltcare.com
SUMMARY:Medical Marijuana Card Clinic
DESCRIPTION:Reserve your spot for our upcoming clinic 5/29/25 by giving us a call today!
URL:https://compaltcare.com/event/medical-marijuana-card-clinic-148/
LOCATION:Compassionate Alternative Care Jacksonville\, 728 Blanche St\, Suite #111\, Jacksonville\, FL\, 32204\, United States
END:VEVENT
BEGIN:VEVENT
DTSTART;TZID=UTC:20250524T130000
DTEND;TZID=UTC:20250524T170000
DTSTAMP:20260425T110418
CREATED:20250520T160742Z
LAST-MODIFIED:20250520T160742Z
UID:5447-1748091600-1748106000@compaltcare.com
SUMMARY:Medical Marijuana Card Clinic
DESCRIPTION:Reserve your spot for our upcoming clinic 1/24/25 by giving us a call today!
URL:https://compaltcare.com/event/medical-marijuana-card-clinic-147/
LOCATION:Compassionate Alternative Care West Palm Beach\, 2054 Vista Parkway\, West Palm Beach\, FL\, 33411\, United States
END:VEVENT
BEGIN:VEVENT
DTSTART;TZID=UTC:20250524T130000
DTEND;TZID=UTC:20250524T170000
DTSTAMP:20260425T110418
CREATED:20250520T160654Z
LAST-MODIFIED:20250520T160654Z
UID:5445-1748091600-1748106000@compaltcare.com
SUMMARY:Medical Marijuana Card Clinic
DESCRIPTION:Reserve your spot for our upcoming clinic 1/24/25 by giving us a call today!
URL:https://compaltcare.com/event/medical-marijuana-card-clinic-146/
LOCATION:Compassionate Alternative Care Jacksonville\, 728 Blanche St\, Suite #111\, Jacksonville\, FL\, 32204\, United States
END:VEVENT
BEGIN:VEVENT
DTSTART;TZID=UTC:20250516T130000
DTEND;TZID=UTC:20250516T173000
DTSTAMP:20260425T110418
CREATED:20250512T172907Z
LAST-MODIFIED:20250512T173355Z
UID:5352-1747400400-1747416600@compaltcare.com
SUMMARY:Medical Marijuana Card Clinic
DESCRIPTION:Reserve your spot for our upcoming clinic 1/16/25 by giving us a call today!
URL:https://compaltcare.com/event/medical-marijuana-card-clinic-145/
LOCATION:Compassionate Alternative Care Jacksonville\, 728 Blanche St\, Suite #111\, Jacksonville\, FL\, 32204\, United States
END:VEVENT
BEGIN:VEVENT
DTSTART;TZID=UTC:20250516T130000
DTEND;TZID=UTC:20250516T170000
DTSTAMP:20260425T110418
CREATED:20250512T173014Z
LAST-MODIFIED:20250512T173300Z
UID:5356-1747400400-1747414800@compaltcare.com
SUMMARY:Medical Marijuana Card Clinic
DESCRIPTION:Reserve your spot for our upcoming clinic 1/16/25 by giving us a call today!
URL:https://compaltcare.com/event/medical-marijuana-clinic-2/
LOCATION:Compassionate Alternative Care West Palm Beach\, 2054 Vista Parkway\, West Palm Beach\, FL\, 33411\, United States
END:VEVENT
BEGIN:VEVENT
DTSTART;TZID=UTC:20250510T140000
DTEND;TZID=UTC:20250510T173000
DTSTAMP:20260425T110418
CREATED:20250505T210846Z
LAST-MODIFIED:20250505T210846Z
UID:4860-1746885600-1746898200@compaltcare.com
SUMMARY:Medical Marijuana Card Clinic
DESCRIPTION:Reserve your spot for our upcoming clinic 1/10/25 by giving us a call today!
URL:https://compaltcare.com/event/medical-marijuana-card-clinic-144/
LOCATION:Compassionate Alternative Care West Palm Beach\, 2054 Vista Parkway\, West Palm Beach\, FL\, 33411\, United States
END:VEVENT
BEGIN:VEVENT
DTSTART;TZID=UTC:20250510T140000
DTEND;TZID=UTC:20250510T173000
DTSTAMP:20260425T110418
CREATED:20250107T190222Z
LAST-MODIFIED:20250505T210739Z
UID:4732-1746885600-1746898200@compaltcare.com
SUMMARY:Medical Marijuana Card Clinic
DESCRIPTION:Reserve your spot for our upcoming clinic 1/10/25 by giving us a call today!
URL:https://compaltcare.com/event/medical-marijuana-card-clinic-143/
LOCATION:Compassionate Alternative Care Jacksonville\, 728 Blanche St\, Suite #111\, Jacksonville\, FL\, 32204\, United States
END:VEVENT
END:VCALENDAR