BEGIN:VCALENDAR
VERSION:2.0
PRODID:-//Compassionate Alternative Care - ECPv6.15.20//NONSGML v1.0//EN
CALSCALE:GREGORIAN
METHOD:PUBLISH
X-WR-CALNAME:Compassionate Alternative Care
X-ORIGINAL-URL:https://compaltcare.com
X-WR-CALDESC:Events for Compassionate Alternative Care
REFRESH-INTERVAL;VALUE=DURATION:PT1H
X-Robots-Tag:noindex
X-PUBLISHED-TTL:PT1H
BEGIN:VTIMEZONE
TZID:UTC
BEGIN:STANDARD
TZOFFSETFROM:+0000
TZOFFSETTO:+0000
TZNAME:UTC
DTSTART:20200101T000000
END:STANDARD
END:VTIMEZONE
BEGIN:VEVENT
DTSTART;VALUE=DATE:20220416
DTEND;VALUE=DATE:20220417
DTSTAMP:20260425T212851
CREATED:20220411T220712Z
LAST-MODIFIED:20220411T220712Z
UID:4271-1650067200-1650153599@compaltcare.com
SUMMARY:Medical Marijuana Card Clinic
DESCRIPTION:Reserve your spot for our upcoming clinic 4/16/22 by giving us a call today!
URL:https://compaltcare.com/event/medical-marijuana-card-clinic-30/
LOCATION:Compassionate Alternative Care Jacksonville\, 728 Blanche St\, Suite #111\, Jacksonville\, FL\, 32204\, United States
END:VEVENT
BEGIN:VEVENT
DTSTART;TZID=UTC:20220408T080000
DTEND;TZID=UTC:20220408T170000
DTSTAMP:20260425T212851
CREATED:20220328T173608Z
LAST-MODIFIED:20220404T123442Z
UID:4266-1649404800-1649437200@compaltcare.com
SUMMARY:Medical Marijuana Card Clinic
DESCRIPTION:Reserve your spot for our upcoming clinic 4/8/22 by giving us a call today!
URL:https://compaltcare.com/event/medical-marijuana-card-clinic-29/
LOCATION:Compassionate Alternative Care Jacksonville\, 728 Blanche St\, Suite #111\, Jacksonville\, FL\, 32204\, United States
END:VEVENT
BEGIN:VEVENT
DTSTART;TZID=UTC:20220330T080000
DTEND;TZID=UTC:20220330T170000
DTSTAMP:20260425T212851
CREATED:20220328T173530Z
LAST-MODIFIED:20220328T173530Z
UID:4265-1648627200-1648659600@compaltcare.com
SUMMARY:Medical Marijuana Card Clinic
DESCRIPTION:Reserve your spot for our upcoming clinic 3/30/22 by giving us a call today!
URL:https://compaltcare.com/event/medical-marijuana-card-clinic-28/
LOCATION:Compassionate Alternative Care Jacksonville\, 728 Blanche St\, Suite #111\, Jacksonville\, FL\, 32204\, United States
END:VEVENT
BEGIN:VEVENT
DTSTART;TZID=UTC:20220325T090000
DTEND;TZID=UTC:20220325T170000
DTSTAMP:20260425T212851
CREATED:20220321T133725Z
LAST-MODIFIED:20220321T133725Z
UID:4263-1648198800-1648227600@compaltcare.com
SUMMARY:Medical Marijuana Card Clinic
DESCRIPTION:Reserve your spot for our upcoming clinic 3/25/22 by giving us a call today!
URL:https://compaltcare.com/event/medical-marijuana-card-clinic-27/
LOCATION:Compassionate Alternative Care Jacksonville\, 728 Blanche St\, Suite #111\, Jacksonville\, FL\, 32204\, United States
END:VEVENT
BEGIN:VEVENT
DTSTART;TZID=UTC:20220318T130000
DTEND;TZID=UTC:20220318T170000
DTSTAMP:20260425T212851
CREATED:20220314T144450Z
LAST-MODIFIED:20220314T165503Z
UID:4259-1647608400-1647622800@compaltcare.com
SUMMARY:Medical Marijuana Card Clinic
DESCRIPTION:Reserve your spot for our upcoming clinic 3/18/22 by giving us a call today!
URL:https://compaltcare.com/event/medical-marijuana-card-clinic-26/
LOCATION:Compassionate Alternative Care Jacksonville\, 728 Blanche St\, Suite #111\, Jacksonville\, FL\, 32204\, United States
END:VEVENT
BEGIN:VEVENT
DTSTART;TZID=UTC:20220310T080000
DTEND;TZID=UTC:20220310T170000
DTSTAMP:20260425T212851
CREATED:20220228T170119Z
LAST-MODIFIED:20220228T170119Z
UID:4182-1646899200-1646931600@compaltcare.com
SUMMARY:Medical Marijuana Card Clinic
DESCRIPTION:Reserve your spot for our upcoming clinic 3/10/22 by giving us a call today!
URL:https://compaltcare.com/event/medical-marijuana-card-clinic-25/
LOCATION:Compassionate Alternative Care Jacksonville\, 728 Blanche St\, Suite #111\, Jacksonville\, FL\, 32204\, United States
END:VEVENT
BEGIN:VEVENT
DTSTART;TZID=UTC:20220303T080000
DTEND;TZID=UTC:20220303T170000
DTSTAMP:20260425T212851
CREATED:20220228T170031Z
LAST-MODIFIED:20220228T170031Z
UID:4180-1646294400-1646326800@compaltcare.com
SUMMARY:Medical Marijuana Card Clinic
DESCRIPTION:Reserve your spot for our upcoming clinic 3/3/22 by giving us a call today!
URL:https://compaltcare.com/event/medical-marijuana-card-clinic-24/
LOCATION:Compassionate Alternative Care Jacksonville\, 728 Blanche St\, Suite #111\, Jacksonville\, FL\, 32204\, United States
END:VEVENT
BEGIN:VEVENT
DTSTART;TZID=UTC:20220226T090000
DTEND;TZID=UTC:20220226T170000
DTSTAMP:20260425T212851
CREATED:20220221T134845Z
LAST-MODIFIED:20220221T134845Z
UID:4149-1645866000-1645894800@compaltcare.com
SUMMARY:Medical Marijuana Card Clinic
DESCRIPTION:Reserve your spot for our upcoming clinic 2/26/22 by giving us a call today!
URL:https://compaltcare.com/event/medical-marijuana-card-clinic-23/
LOCATION:Compassionate Alternative Care Jacksonville\, 728 Blanche St\, Suite #111\, Jacksonville\, FL\, 32204\, United States
END:VEVENT
BEGIN:VEVENT
DTSTART;VALUE=DATE:20220219
DTEND;VALUE=DATE:20220220
DTSTAMP:20260425T212851
CREATED:20220217T132709Z
LAST-MODIFIED:20220217T132709Z
UID:4147-1645228800-1645315199@compaltcare.com
SUMMARY:Medical Marijuana Card Clinic
DESCRIPTION:Reserve your spot for our upcoming clinic 2/19/22 by giving us a call today!
URL:https://compaltcare.com/event/medical-marijuana-card-clinic-22/
LOCATION:Compassionate Alternative Care Jacksonville\, 728 Blanche St\, Suite #111\, Jacksonville\, FL\, 32204\, United States
END:VEVENT
BEGIN:VEVENT
DTSTART;VALUE=DATE:20220212
DTEND;VALUE=DATE:20220213
DTSTAMP:20260425T212851
CREATED:20220207T223355Z
LAST-MODIFIED:20220207T223355Z
UID:4143-1644624000-1644710399@compaltcare.com
SUMMARY:Medical Marijuana Card Clinic
DESCRIPTION:Reserve your spot for our upcoming clinic 2/12/22 by giving us a call today!
URL:https://compaltcare.com/event/medical-marijuana-card-clinic-21/
LOCATION:Compassionate Alternative Care Jacksonville\, 728 Blanche St\, Suite #111\, Jacksonville\, FL\, 32204\, United States
END:VEVENT
BEGIN:VEVENT
DTSTART;TZID=UTC:20220204T080000
DTEND;TZID=UTC:20220204T170000
DTSTAMP:20260425T212851
CREATED:20220201T014938Z
LAST-MODIFIED:20220201T014938Z
UID:4141-1643961600-1643994000@compaltcare.com
SUMMARY:Medical Marijuana Card Clinic
DESCRIPTION:Reserve your spot for our upcoming clinic 2/4/22 by giving us a call today!
URL:https://compaltcare.com/event/medical-marijuana-card-clinic-20/
LOCATION:Compassionate Alternative Care Jacksonville\, 728 Blanche St\, Suite #111\, Jacksonville\, FL\, 32204\, United States
END:VEVENT
BEGIN:VEVENT
DTSTART;TZID=UTC:20220127T090000
DTEND;TZID=UTC:20220127T170000
DTSTAMP:20260425T212851
CREATED:20220124T145959Z
LAST-MODIFIED:20220124T145959Z
UID:4138-1643274000-1643302800@compaltcare.com
SUMMARY:Medical Marijuana Card Clinic
DESCRIPTION:Reserve your spot for our upcoming clinic 1/27/22 by giving us a call today!
URL:https://compaltcare.com/event/medical-marijuana-card-clinic-19/
LOCATION:Compassionate Alternative Care Jacksonville\, 728 Blanche St\, Suite #111\, Jacksonville\, FL\, 32204\, United States
END:VEVENT
BEGIN:VEVENT
DTSTART;VALUE=DATE:20220121
DTEND;VALUE=DATE:20220122
DTSTAMP:20260425T212851
CREATED:20220120T173358Z
LAST-MODIFIED:20220120T173358Z
UID:4135-1642723200-1642809599@compaltcare.com
SUMMARY:Medical Marijuana Card Clinic
DESCRIPTION:Reserve your spot for our upcoming clinic 1/21/22 by giving us a call today!
URL:https://compaltcare.com/event/medical-marijuana-card-clinic-18/
LOCATION:Compassionate Alternative Care Jacksonville\, 728 Blanche St\, Suite #111\, Jacksonville\, FL\, 32204\, United States
END:VEVENT
BEGIN:VEVENT
DTSTART;TZID=UTC:20220113T093000
DTEND;TZID=UTC:20220113T170000
DTSTAMP:20260425T212851
CREATED:20220111T171758Z
LAST-MODIFIED:20220111T171835Z
UID:4132-1642066200-1642093200@compaltcare.com
SUMMARY:Medical Marijuana Card Clinic
DESCRIPTION:Reserve your spot for our upcoming clinic 1/13/22 by giving us a call today!
URL:https://compaltcare.com/event/medical-marijuana-card-clinic-17/
LOCATION:Compassionate Alternative Care Jacksonville\, 728 Blanche St\, Suite #111\, Jacksonville\, FL\, 32204\, United States
END:VEVENT
BEGIN:VEVENT
DTSTART;TZID=UTC:20220108T093000
DTEND;TZID=UTC:20220108T170000
DTSTAMP:20260425T212851
CREATED:20220103T143316Z
LAST-MODIFIED:20220103T143316Z
UID:4129-1641634200-1641661200@compaltcare.com
SUMMARY:Medical Marijuana Card Clinic
DESCRIPTION:Reserve your spot for our upcoming clinic 1/8/22 by giving us a call today!
URL:https://compaltcare.com/event/medical-marijuana-card-clinic-16/
LOCATION:Compassionate Alternative Care Jacksonville\, 728 Blanche St\, Suite #111\, Jacksonville\, FL\, 32204\, United States
END:VEVENT
BEGIN:VEVENT
DTSTART;TZID=UTC:20211231T130000
DTEND;TZID=UTC:20211231T173000
DTSTAMP:20260425T212851
CREATED:20210809T141011Z
LAST-MODIFIED:20211227T180557Z
UID:3914-1640955600-1640971800@compaltcare.com
SUMMARY:Medical Marijuana Card Clinic
DESCRIPTION:Reserve your spot for our upcoming clinic 12/31/21 by giving us a call today!
URL:https://compaltcare.com/event/medical-marijuana-card-clinic/
LOCATION:Compassionate Alternative Care Jacksonville\, 728 Blanche St\, Suite #111\, Jacksonville\, FL\, 32204\, United States
END:VEVENT
BEGIN:VEVENT
DTSTART;VALUE=DATE:20211223
DTEND;VALUE=DATE:20211224
DTSTAMP:20260425T212851
CREATED:20211209T200648Z
LAST-MODIFIED:20211209T200648Z
UID:4124-1640217600-1640303999@compaltcare.com
SUMMARY:Medical Marijuana Card Clinic
DESCRIPTION:Next Clinic- 12/23/21 Reserve your spot by giving us a call today!
URL:https://compaltcare.com/event/medical-marijuana-card-clinic-15/
LOCATION:Compassionate Alternative Care Jacksonville\, 728 Blanche St\, Suite #111\, Jacksonville\, FL\, 32204\, United States
END:VEVENT
BEGIN:VEVENT
DTSTART;VALUE=DATE:20211206
DTEND;VALUE=DATE:20211207
DTSTAMP:20260425T212851
CREATED:20211129T143455Z
LAST-MODIFIED:20211129T143455Z
UID:4121-1638748800-1638835199@compaltcare.com
SUMMARY:Medical Marijuana Card Clinic
DESCRIPTION:Next Clinic- 12/06/21 Reserve your spot by giving us a call today!
URL:https://compaltcare.com/event/medical-marijuana-card-clinic-14/
LOCATION:Compassionate Alternative Care Jacksonville\, 728 Blanche St\, Suite #111\, Jacksonville\, FL\, 32204\, United States
END:VEVENT
BEGIN:VEVENT
DTSTART;VALUE=DATE:20211127
DTEND;VALUE=DATE:20211128
DTSTAMP:20260425T212851
CREATED:20211123T162953Z
LAST-MODIFIED:20211123T162953Z
UID:4119-1637971200-1638057599@compaltcare.com
SUMMARY:Medical Marijuana Card Clinic
DESCRIPTION:Next Clinic- 11/27/21 Reserve your spot by giving us a call today!
URL:https://compaltcare.com/event/medical-marijuana-card-clinic-13/
LOCATION:Compassionate Alternative Care Jacksonville\, 728 Blanche St\, Suite #111\, Jacksonville\, FL\, 32204\, United States
END:VEVENT
BEGIN:VEVENT
DTSTART;TZID=UTC:20211111T090000
DTEND;TZID=UTC:20211111T170000
DTSTAMP:20260425T212851
CREATED:20211103T183731Z
LAST-MODIFIED:20211103T183731Z
UID:4115-1636621200-1636650000@compaltcare.com
SUMMARY:Medical Marijuana Card Clinic
DESCRIPTION:For our Veterans Day clinic all Veterans will receive $25 Off the visit on 11/11/21 Reserve your spot by giving us a call today!
URL:https://compaltcare.com/event/medical-marijuana-card-clinic-12/
LOCATION:Compassionate Alternative Care Jacksonville\, 728 Blanche St\, Suite #111\, Jacksonville\, FL\, 32204\, United States
END:VEVENT
BEGIN:VEVENT
DTSTART;VALUE=DATE:20211105
DTEND;VALUE=DATE:20211106
DTSTAMP:20260425T212851
CREATED:20211101T133242Z
LAST-MODIFIED:20211101T133242Z
UID:4096-1636070400-1636156799@compaltcare.com
SUMMARY:Medical Marijuana Card Clinic
DESCRIPTION:Reserve your spot for our upcoming clinic 11/05/21 by giving us a call today!
URL:https://compaltcare.com/event/medical-marijuana-card-clinic-11/
LOCATION:Compassionate Alternative Care Jacksonville\, 728 Blanche St\, Suite #111\, Jacksonville\, FL\, 32204\, United States
END:VEVENT
BEGIN:VEVENT
DTSTART;VALUE=DATE:20211029
DTEND;VALUE=DATE:20211030
DTSTAMP:20260425T212851
CREATED:20211025T140612Z
LAST-MODIFIED:20211025T140612Z
UID:4066-1635465600-1635551999@compaltcare.com
SUMMARY:Medical Marijuana Card Clinic
DESCRIPTION:Reserve your spot for our upcoming clinic 10/29/21 by giving us a call today!
URL:https://compaltcare.com/event/medical-marijuana-card-clinic-10/
LOCATION:Compassionate Alternative Care Jacksonville\, 728 Blanche St\, Suite #111\, Jacksonville\, FL\, 32204\, United States
END:VEVENT
BEGIN:VEVENT
DTSTART;TZID=UTC:20211021T090000
DTEND;TZID=UTC:20211021T170000
DTSTAMP:20260425T212851
CREATED:20211013T194431Z
LAST-MODIFIED:20211013T194431Z
UID:4063-1634806800-1634835600@compaltcare.com
SUMMARY:Medical Marijuana Card Clinic
DESCRIPTION:Reserve your spot for our upcoming clinic 10/21/21 by giving us a call today!
URL:https://compaltcare.com/event/medical-marijuana-card-clinic-9/
LOCATION:Compassionate Alternative Care Jacksonville\, 728 Blanche St\, Suite #111\, Jacksonville\, FL\, 32204\, United States
END:VEVENT
BEGIN:VEVENT
DTSTART;TZID=UTC:20211016T090000
DTEND;TZID=UTC:20211016T170000
DTSTAMP:20260425T212851
CREATED:20211013T194139Z
LAST-MODIFIED:20211013T194139Z
UID:4061-1634374800-1634403600@compaltcare.com
SUMMARY:Medical Marijuana Card Clinic
DESCRIPTION:Reserve your spot for our upcoming clinic 10/16/21 by giving us a call today!
URL:https://compaltcare.com/event/medical-marijuana-card-clinic-8/
LOCATION:Compassionate Alternative Care Jacksonville\, 728 Blanche St\, Suite #111\, Jacksonville\, FL\, 32204\, United States
END:VEVENT
BEGIN:VEVENT
DTSTART;TZID=UTC:20211013T090000
DTEND;TZID=UTC:20211013T170000
DTSTAMP:20260425T212851
CREATED:20211004T164612Z
LAST-MODIFIED:20211004T164612Z
UID:4058-1634115600-1634144400@compaltcare.com
SUMMARY:Medical Marijuana Card Clinic
DESCRIPTION:Reserve your spot for our upcoming clinic 10/13/21 by giving us a call today!
URL:https://compaltcare.com/event/medical-marijuana-card-clinic-7/
LOCATION:Compassionate Alternative Care Jacksonville\, 728 Blanche St\, Suite #111\, Jacksonville\, FL\, 32204\, United States
END:VEVENT
BEGIN:VEVENT
DTSTART;TZID=UTC:20211008T090000
DTEND;TZID=UTC:20211008T170000
DTSTAMP:20260425T212851
CREATED:20211004T164519Z
LAST-MODIFIED:20211004T164519Z
UID:4056-1633683600-1633712400@compaltcare.com
SUMMARY:Medical Marijuana Card Clinic
DESCRIPTION:Reserve your spot for our upcoming clinic 10/8/21 by giving us a call today!
URL:https://compaltcare.com/event/medical-marijuana-card-clinic-6/
LOCATION:Compassionate Alternative Care Jacksonville\, 728 Blanche St\, Suite #111\, Jacksonville\, FL\, 32204\, United States
END:VEVENT
BEGIN:VEVENT
DTSTART;TZID=UTC:20211002T130000
DTEND;TZID=UTC:20211002T170000
DTSTAMP:20260425T212851
CREATED:20210926T125624Z
LAST-MODIFIED:20210926T125624Z
UID:4052-1633179600-1633194000@compaltcare.com
SUMMARY:Medical Marijuana Card Clinic
DESCRIPTION:Reserve your spot for our upcoming clinic 10/2/21 by giving us a call today!
URL:https://compaltcare.com/event/medical-marijuana-card-clinic-5/
LOCATION:Compassionate Alternative Care Jacksonville\, 728 Blanche St\, Suite #111\, Jacksonville\, FL\, 32204\, United States
END:VEVENT
BEGIN:VEVENT
DTSTART;TZID=UTC:20210925T090000
DTEND;TZID=UTC:20210925T170000
DTSTAMP:20260425T212851
CREATED:20210920T132338Z
LAST-MODIFIED:20210920T132338Z
UID:4000-1632560400-1632589200@compaltcare.com
SUMMARY:Medical Marijuana Card Clinic
DESCRIPTION:Reserve your spot for our upcoming clinic 9/25/21 by giving us a call today!
URL:https://compaltcare.com/event/medical-marijuana-card-clinic-3/
LOCATION:Compassionate Alternative Care Jacksonville\, 728 Blanche St\, Suite #111\, Jacksonville\, FL\, 32204\, United States
END:VEVENT
BEGIN:VEVENT
DTSTART;TZID=UTC:20210922T080000
DTEND;TZID=UTC:20210922T170000
DTSTAMP:20260425T212851
CREATED:20210920T132735Z
LAST-MODIFIED:20210920T132735Z
UID:4002-1632297600-1632330000@compaltcare.com
SUMMARY:Medical Marijuana Card Clinic
DESCRIPTION:Reserve your spot for our upcoming clinic 9/22/21 by giving us a call today!
URL:https://compaltcare.com/event/medical-marijuana-card-clinic-4/
LOCATION:Compassionate Alternative Care Jacksonville\, 728 Blanche St\, Suite #111\, Jacksonville\, FL\, 32204\, United States
END:VEVENT
BEGIN:VEVENT
DTSTART;TZID=UTC:20210918T130000
DTEND;TZID=UTC:20210918T170000
DTSTAMP:20260425T212851
CREATED:20210916T132946Z
LAST-MODIFIED:20210916T132946Z
UID:3977-1631970000-1631984400@compaltcare.com
SUMMARY:Medical Marijuana Card Clinic
DESCRIPTION:Reserve your spot for our upcoming clinic 9/18/21 by giving us a call today!
URL:https://compaltcare.com/event/medical-marijuana-card-clinic-2/
LOCATION:Compassionate Alternative Care Jacksonville\, 728 Blanche St\, Suite #111\, Jacksonville\, FL\, 32204\, United States
END:VEVENT
END:VCALENDAR