BEGIN:VCALENDAR
VERSION:2.0
PRODID:-//Compassionate Alternative Care - ECPv6.15.20//NONSGML v1.0//EN
CALSCALE:GREGORIAN
METHOD:PUBLISH
X-WR-CALNAME:Compassionate Alternative Care
X-ORIGINAL-URL:https://compaltcare.com
X-WR-CALDESC:Events for Compassionate Alternative Care
REFRESH-INTERVAL;VALUE=DURATION:PT1H
X-Robots-Tag:noindex
X-PUBLISHED-TTL:PT1H
BEGIN:VTIMEZONE
TZID:UTC
BEGIN:STANDARD
TZOFFSETFROM:+0000
TZOFFSETTO:+0000
TZNAME:UTC
DTSTART:20210101T000000
END:STANDARD
END:VTIMEZONE
BEGIN:VEVENT
DTSTART;TZID=UTC:20221223T080000
DTEND;TZID=UTC:20221223T170000
DTSTAMP:20260425T135249
CREATED:20221216T030000Z
LAST-MODIFIED:20221216T030000Z
UID:4368-1671782400-1671814800@compaltcare.com
SUMMARY:Medical Marijuana Card Clinic
DESCRIPTION:Reserve your spot for our upcoming clinic 12/23/22 by giving us a call today!
URL:https://compaltcare.com/event/medical-marijuana-card-clinic-65/
LOCATION:Compassionate Alternative Care Jacksonville\, 728 Blanche St\, Suite #111\, Jacksonville\, FL\, 32204\, United States
END:VEVENT
BEGIN:VEVENT
DTSTART;TZID=UTC:20221215T080000
DTEND;TZID=UTC:20221215T170000
DTSTAMP:20260425T135249
CREATED:20221213T134139Z
LAST-MODIFIED:20221213T134139Z
UID:4366-1671091200-1671123600@compaltcare.com
SUMMARY:Medical Marijuana Card Clinic
DESCRIPTION:Reserve your spot for our upcoming clinic 12/15/22 by giving us a call today!
URL:https://compaltcare.com/event/medical-marijuana-card-clinic-64/
LOCATION:Compassionate Alternative Care Jacksonville\, 728 Blanche St\, Suite #111\, Jacksonville\, FL\, 32204\, United States
END:VEVENT
BEGIN:VEVENT
DTSTART;TZID=UTC:20221209T080000
DTEND;TZID=UTC:20221209T170000
DTSTAMP:20260425T135249
CREATED:20221204T125332Z
LAST-MODIFIED:20221204T125332Z
UID:4363-1670572800-1670605200@compaltcare.com
SUMMARY:Medical Marijuana Card Clinic
DESCRIPTION:Reserve your spot for our upcoming clinic 12/9/22 by giving us a call today!
URL:https://compaltcare.com/event/medical-marijuana-card-clinic-63/
LOCATION:Compassionate Alternative Care Jacksonville\, 728 Blanche St\, Suite #111\, Jacksonville\, FL\, 32204\, United States
END:VEVENT
BEGIN:VEVENT
DTSTART;TZID=UTC:20221202T080000
DTEND;TZID=UTC:20221202T170000
DTSTAMP:20260425T135249
CREATED:20221129T123123Z
LAST-MODIFIED:20221129T123123Z
UID:4360-1669968000-1670000400@compaltcare.com
SUMMARY:Medical Marijuana Card Clinic
DESCRIPTION:Reserve your spot for our upcoming clinic 12/2/22 by giving us a call today!
URL:https://compaltcare.com/event/medical-marijuana-card-clinic-62/
LOCATION:Compassionate Alternative Care Jacksonville\, 728 Blanche St\, Suite #111\, Jacksonville\, FL\, 32204\, United States
END:VEVENT
BEGIN:VEVENT
DTSTART;TZID=UTC:20221125T080000
DTEND;TZID=UTC:20221125T170000
DTSTAMP:20260425T135249
CREATED:20221122T182501Z
LAST-MODIFIED:20221122T182501Z
UID:4358-1669363200-1669395600@compaltcare.com
SUMMARY:Medical Marijuana Card Clinic
DESCRIPTION:Reserve your spot for our upcoming clinic 11/25/22 by giving us a call today! \n25% Off for Black Friday!
URL:https://compaltcare.com/event/medical-marijuana-card-clinic-61/
LOCATION:Compassionate Alternative Care Jacksonville\, 728 Blanche St\, Suite #111\, Jacksonville\, FL\, 32204\, United States
END:VEVENT
BEGIN:VEVENT
DTSTART;TZID=UTC:20221118T080000
DTEND;TZID=UTC:20221118T170000
DTSTAMP:20260425T135249
CREATED:20221113T182935Z
LAST-MODIFIED:20221113T182935Z
UID:4354-1668758400-1668790800@compaltcare.com
SUMMARY:Medical Marijuana Card Clinic
DESCRIPTION:Reserve your spot for our upcoming clinic 11/18/22 by giving us a call today!
URL:https://compaltcare.com/event/medical-marijuana-card-clinic-60/
LOCATION:Compassionate Alternative Care Jacksonville\, 728 Blanche St\, Suite #111\, Jacksonville\, FL\, 32204\, United States
END:VEVENT
BEGIN:VEVENT
DTSTART;TZID=UTC:20221111T080000
DTEND;TZID=UTC:20221111T170000
DTSTAMP:20260425T135249
CREATED:20221101T000509Z
LAST-MODIFIED:20221101T000509Z
UID:4351-1668153600-1668186000@compaltcare.com
SUMMARY:Medical Marijuana Card Clinic
DESCRIPTION:Reserve your spot for our upcoming clinic 11/11/22 by giving us a call today!
URL:https://compaltcare.com/event/medical-marijuana-card-clinic-59/
LOCATION:Compassionate Alternative Care Jacksonville\, 728 Blanche St\, Suite #111\, Jacksonville\, FL\, 32204\, United States
END:VEVENT
BEGIN:VEVENT
DTSTART;TZID=UTC:20221028T130000
DTEND;TZID=UTC:20221028T170000
DTSTAMP:20260425T135249
CREATED:20221024T220245Z
LAST-MODIFIED:20221024T220245Z
UID:4349-1666962000-1666976400@compaltcare.com
SUMMARY:Medical Marijuana Card Clinic
DESCRIPTION:Reserve your spot for our upcoming clinic 10/28/22 by giving us a call today!
URL:https://compaltcare.com/event/medical-marijuana-card-clinic-58/
LOCATION:Compassionate Alternative Care Jacksonville\, 728 Blanche St\, Suite #111\, Jacksonville\, FL\, 32204\, United States
END:VEVENT
BEGIN:VEVENT
DTSTART;TZID=UTC:20221022T080000
DTEND;TZID=UTC:20221022T170000
DTSTAMP:20260425T135249
CREATED:20221014T211131Z
LAST-MODIFIED:20221014T211131Z
UID:4346-1666425600-1666458000@compaltcare.com
SUMMARY:Medical Marijuana Card Clinic
DESCRIPTION:Reserve your spot for our upcoming clinic 10/22/22 by giving us a call today!
URL:https://compaltcare.com/event/medical-marijuana-card-clinic-57/
LOCATION:Compassionate Alternative Care Jacksonville\, 728 Blanche St\, Suite #111\, Jacksonville\, FL\, 32204\, United States
END:VEVENT
BEGIN:VEVENT
DTSTART;TZID=UTC:20221014T080000
DTEND;TZID=UTC:20221014T170000
DTSTAMP:20260425T135249
CREATED:20221010T145754Z
LAST-MODIFIED:20221010T145754Z
UID:4344-1665734400-1665766800@compaltcare.com
SUMMARY:Medical Marijuana Card Clinic
DESCRIPTION:Reserve your spot for our upcoming clinic 10/14/22 by giving us a call today!
URL:https://compaltcare.com/event/medical-marijuana-card-clinic-56/
LOCATION:Compassionate Alternative Care Jacksonville\, 728 Blanche St\, Suite #111\, Jacksonville\, FL\, 32204\, United States
END:VEVENT
BEGIN:VEVENT
DTSTART;TZID=UTC:20221008T080000
DTEND;TZID=UTC:20221008T170000
DTSTAMP:20260425T135249
CREATED:20221003T132623Z
LAST-MODIFIED:20221003T132623Z
UID:4341-1665216000-1665248400@compaltcare.com
SUMMARY:Medical Marijuana Card Clinic
DESCRIPTION:Reserve your spot for our upcoming clinic 10/8/22 by giving us a call today!
URL:https://compaltcare.com/event/medical-marijuana-card-clinic-55/
LOCATION:Compassionate Alternative Care Jacksonville\, 728 Blanche St\, Suite #111\, Jacksonville\, FL\, 32204\, United States
END:VEVENT
BEGIN:VEVENT
DTSTART;VALUE=DATE:20221001
DTEND;VALUE=DATE:20221002
DTSTAMP:20260425T135249
CREATED:20220927T144333Z
LAST-MODIFIED:20220927T144333Z
UID:4339-1664582400-1664668799@compaltcare.com
SUMMARY:Medical Marijuana Card Clinic
DESCRIPTION:Reserve your spot for our upcoming clinic 10/1/22 by giving us a call today!
URL:https://compaltcare.com/event/medical-marijuana-card-clinic-54/
LOCATION:Compassionate Alternative Care Jacksonville\, 728 Blanche St\, Suite #111\, Jacksonville\, FL\, 32204\, United States
END:VEVENT
BEGIN:VEVENT
DTSTART;TZID=UTC:20220924T080000
DTEND;TZID=UTC:20220924T170000
DTSTAMP:20260425T135249
CREATED:20220917T013148Z
LAST-MODIFIED:20220917T013148Z
UID:4336-1664006400-1664038800@compaltcare.com
SUMMARY:Medical Marijuana Card Clinic
DESCRIPTION:Reserve your spot for our upcoming clinic 9/24/22 by giving us a call today!
URL:https://compaltcare.com/event/medical-marijuana-card-clinic-53/
LOCATION:Compassionate Alternative Care Jacksonville\, 728 Blanche St\, Suite #111\, Jacksonville\, FL\, 32204\, United States
END:VEVENT
BEGIN:VEVENT
DTSTART;TZID=UTC:20220914T080000
DTEND;TZID=UTC:20220914T170000
DTSTAMP:20260425T135249
CREATED:20220908T212014Z
LAST-MODIFIED:20220908T212014Z
UID:4333-1663142400-1663174800@compaltcare.com
SUMMARY:Medical Marijuana Card Clinic
DESCRIPTION:Reserve your spot for our upcoming clinic 9/14/22 by giving us a call today!
URL:https://compaltcare.com/event/medical-marijuana-card-clinic-52/
LOCATION:Compassionate Alternative Care Jacksonville\, 728 Blanche St\, Suite #111\, Jacksonville\, FL\, 32204\, United States
END:VEVENT
BEGIN:VEVENT
DTSTART;VALUE=DATE:20220910
DTEND;VALUE=DATE:20220911
DTSTAMP:20260425T135249
CREATED:20220825T140333Z
LAST-MODIFIED:20220825T140333Z
UID:4330-1662768000-1662854399@compaltcare.com
SUMMARY:Medical Marijuana Card Clinic
DESCRIPTION:Reserve your spot for our upcoming clinic 9/10/22 by giving us a call today!
URL:https://compaltcare.com/event/medical-marijuana-card-clinic-51/
LOCATION:Compassionate Alternative Care Jacksonville\, 728 Blanche St\, Suite #111\, Jacksonville\, FL\, 32204\, United States
END:VEVENT
BEGIN:VEVENT
DTSTART;VALUE=DATE:20220907
DTEND;VALUE=DATE:20220908
DTSTAMP:20260425T135249
CREATED:20220825T140302Z
LAST-MODIFIED:20220825T140302Z
UID:4328-1662508800-1662595199@compaltcare.com
SUMMARY:Medical Marijuana Card Clinic
DESCRIPTION:Reserve your spot for our upcoming clinic 9/7/22 by giving us a call today!
URL:https://compaltcare.com/event/medical-marijuana-card-clinic-50/
LOCATION:Compassionate Alternative Care Jacksonville\, 728 Blanche St\, Suite #111\, Jacksonville\, FL\, 32204\, United States
END:VEVENT
BEGIN:VEVENT
DTSTART;VALUE=DATE:20220824
DTEND;VALUE=DATE:20220825
DTSTAMP:20260425T135249
CREATED:20220822T142915Z
LAST-MODIFIED:20220822T142915Z
UID:4326-1661299200-1661385599@compaltcare.com
SUMMARY:Medical Marijuana Card Clinic
DESCRIPTION:Reserve your spot for our upcoming clinic 8/24/22 by giving us a call today!
URL:https://compaltcare.com/event/medical-marijuana-card-clinic-49/
LOCATION:Compassionate Alternative Care Jacksonville\, 728 Blanche St\, Suite #111\, Jacksonville\, FL\, 32204\, United States
END:VEVENT
BEGIN:VEVENT
DTSTART;TZID=UTC:20220819T080000
DTEND;TZID=UTC:20220819T170000
DTSTAMP:20260425T135249
CREATED:20220815T130653Z
LAST-MODIFIED:20220815T130653Z
UID:4323-1660896000-1660928400@compaltcare.com
SUMMARY:Medical Marijuana Card Clinic
DESCRIPTION:Reserve your spot for our upcoming clinic 8/19/22 by giving us a call today!
URL:https://compaltcare.com/event/medical-marijuana-card-clinic-48/
LOCATION:Compassionate Alternative Care Jacksonville\, 728 Blanche St\, Suite #111\, Jacksonville\, FL\, 32204\, United States
END:VEVENT
BEGIN:VEVENT
DTSTART;VALUE=DATE:20220812
DTEND;VALUE=DATE:20220813
DTSTAMP:20260425T135249
CREATED:20220808T114721Z
LAST-MODIFIED:20220808T114721Z
UID:4321-1660262400-1660348799@compaltcare.com
SUMMARY:Medical Marijuana Card Clinic
DESCRIPTION:Reserve your spot for our upcoming clinic 8/12/22 by giving us a call today!
URL:https://compaltcare.com/event/medical-marijuana-card-clinic-47/
LOCATION:Compassionate Alternative Care Jacksonville\, 728 Blanche St\, Suite #111\, Jacksonville\, FL\, 32204\, United States
END:VEVENT
BEGIN:VEVENT
DTSTART;TZID=UTC:20220806T143000
DTEND;TZID=UTC:20220806T170000
DTSTAMP:20260425T135249
CREATED:20220727T185800Z
LAST-MODIFIED:20220727T185800Z
UID:4318-1659796200-1659805200@compaltcare.com
SUMMARY:Medical Marijuana Card Clinic
DESCRIPTION:Reserve your spot for our upcoming clinic 8/6/22 by giving us a call today!
URL:https://compaltcare.com/event/medical-marijuana-card-clinic-46/
LOCATION:Compassionate Alternative Care Jacksonville\, 728 Blanche St\, Suite #111\, Jacksonville\, FL\, 32204\, United States
END:VEVENT
BEGIN:VEVENT
DTSTART;VALUE=DATE:20220730
DTEND;VALUE=DATE:20220731
DTSTAMP:20260425T135249
CREATED:20220725T114943Z
LAST-MODIFIED:20220727T185702Z
UID:4314-1659139200-1659225599@compaltcare.com
SUMMARY:Medical Marijuana Card Clinic
DESCRIPTION:Reserve your spot for our upcoming clinic 7/30/22 by giving us a call today!
URL:https://compaltcare.com/event/medical-marijuana-card-clinic-45/
LOCATION:Compassionate Alternative Care Jacksonville\, 728 Blanche St\, Suite #111\, Jacksonville\, FL\, 32204\, United States
END:VEVENT
BEGIN:VEVENT
DTSTART;VALUE=DATE:20220723
DTEND;VALUE=DATE:20220724
DTSTAMP:20260425T135249
CREATED:20220718T185726Z
LAST-MODIFIED:20220718T185726Z
UID:4310-1658534400-1658620799@compaltcare.com
SUMMARY:Medical Marijuana Card Clinic
DESCRIPTION:Reserve your spot for our upcoming clinic 7/23/22 by giving us a call today!
URL:https://compaltcare.com/event/medical-marijuana-card-clinic-44/
LOCATION:Compassionate Alternative Care Jacksonville\, 728 Blanche St\, Suite #111\, Jacksonville\, FL\, 32204\, United States
END:VEVENT
BEGIN:VEVENT
DTSTART;VALUE=DATE:20220715
DTEND;VALUE=DATE:20220716
DTSTAMP:20260425T135249
CREATED:20220711T142511Z
LAST-MODIFIED:20220711T142511Z
UID:4308-1657843200-1657929599@compaltcare.com
SUMMARY:Medical Marijuana Card Clinic
DESCRIPTION:Reserve your spot for our upcoming clinic 7/15/22 by giving us a call today!
URL:https://compaltcare.com/event/medical-marijuana-card-clinic-43/
LOCATION:Compassionate Alternative Care Jacksonville\, 728 Blanche St\, Suite #111\, Jacksonville\, FL\, 32204\, United States
END:VEVENT
BEGIN:VEVENT
DTSTART;TZID=UTC:20220709T080000
DTEND;TZID=UTC:20220709T170000
DTSTAMP:20260425T135249
CREATED:20220620T131633Z
LAST-MODIFIED:20220620T131633Z
UID:4305-1657353600-1657386000@compaltcare.com
SUMMARY:Medical Marijuana Card Clinic
DESCRIPTION:Reserve your spot for our upcoming clinic 7/9/22 by giving us a call today!
URL:https://compaltcare.com/event/medical-marijuana-card-clinic-42/
LOCATION:Compassionate Alternative Care Jacksonville\, 728 Blanche St\, Suite #111\, Jacksonville\, FL\, 32204\, United States
END:VEVENT
BEGIN:VEVENT
DTSTART;TZID=UTC:20220630T080000
DTEND;TZID=UTC:20220630T170000
DTSTAMP:20260425T135249
CREATED:20220620T131558Z
LAST-MODIFIED:20220620T131558Z
UID:4303-1656576000-1656608400@compaltcare.com
SUMMARY:Medical Marijuana Card Clinic
DESCRIPTION:Reserve your spot for our upcoming clinic 6/30/22 by giving us a call today!
URL:https://compaltcare.com/event/medical-marijuana-card-clinic-41/
LOCATION:Compassionate Alternative Care Jacksonville\, 728 Blanche St\, Suite #111\, Jacksonville\, FL\, 32204\, United States
END:VEVENT
BEGIN:VEVENT
DTSTART;TZID=UTC:20220623T080000
DTEND;TZID=UTC:20220623T170000
DTSTAMP:20260425T135249
CREATED:20220620T131530Z
LAST-MODIFIED:20220620T131530Z
UID:4300-1655971200-1656003600@compaltcare.com
SUMMARY:Medical Marijuana Card Clinic
DESCRIPTION:Reserve your spot for our upcoming clinic 6/23/22 by giving us a call today!
URL:https://compaltcare.com/event/medical-marijuana-card-clinic-40/
LOCATION:Compassionate Alternative Care Jacksonville\, 728 Blanche St\, Suite #111\, Jacksonville\, FL\, 32204\, United States
END:VEVENT
BEGIN:VEVENT
DTSTART;TZID=UTC:20220617T080000
DTEND;TZID=UTC:20220617T170000
DTSTAMP:20260425T135249
CREATED:20220613T133931Z
LAST-MODIFIED:20220613T133931Z
UID:4297-1655452800-1655485200@compaltcare.com
SUMMARY:Medical Marijuana Card Clinic
DESCRIPTION:Reserve your spot for our upcoming clinic 6/17/22 by giving us a call today!
URL:https://compaltcare.com/event/medical-marijuana-card-clinic-39/
LOCATION:Compassionate Alternative Care Jacksonville\, 728 Blanche St\, Suite #111\, Jacksonville\, FL\, 32204\, United States
END:VEVENT
BEGIN:VEVENT
DTSTART;VALUE=DATE:20220610
DTEND;VALUE=DATE:20220611
DTSTAMP:20260425T135249
CREATED:20220606T123034Z
LAST-MODIFIED:20220606T123034Z
UID:4294-1654819200-1654905599@compaltcare.com
SUMMARY:Medical Marijuana Card Clinic
DESCRIPTION:Reserve your spot for our upcoming clinic 6/10/22 by giving us a call today!
URL:https://compaltcare.com/event/medical-marijuana-card-clinic-38/
LOCATION:Compassionate Alternative Care Jacksonville\, 728 Blanche St\, Suite #111\, Jacksonville\, FL\, 32204\, United States
END:VEVENT
BEGIN:VEVENT
DTSTART;TZID=UTC:20220602T100000
DTEND;TZID=UTC:20220602T170000
DTSTAMP:20260425T135249
CREATED:20220527T132412Z
LAST-MODIFIED:20220527T132412Z
UID:4291-1654164000-1654189200@compaltcare.com
SUMMARY:Medical Marijuana Card Clinic
DESCRIPTION:Reserve your spot for our upcoming clinic 6/2/22 by giving us a call today!
URL:https://compaltcare.com/event/medical-marijuana-card-clinic-37/
LOCATION:Compassionate Alternative Care Jacksonville\, 728 Blanche St\, Suite #111\, Jacksonville\, FL\, 32204\, United States
END:VEVENT
BEGIN:VEVENT
DTSTART;VALUE=DATE:20220526
DTEND;VALUE=DATE:20220527
DTSTAMP:20260425T135249
CREATED:20220523T131043Z
LAST-MODIFIED:20220523T131043Z
UID:4288-1653523200-1653609599@compaltcare.com
SUMMARY:Medical Marijuana Card Clinic
DESCRIPTION:Reserve your spot for our upcoming clinic 5/26/22 by giving us a call today!
URL:https://compaltcare.com/event/medical-marijuana-card-clinic-36/
LOCATION:Compassionate Alternative Care Jacksonville\, 728 Blanche St\, Suite #111\, Jacksonville\, FL\, 32204\, United States
END:VEVENT
END:VCALENDAR