BEGIN:VCALENDAR
VERSION:2.0
PRODID:-//Compassionate Alternative Care - ECPv6.15.20//NONSGML v1.0//EN
CALSCALE:GREGORIAN
METHOD:PUBLISH
X-WR-CALNAME:Compassionate Alternative Care
X-ORIGINAL-URL:https://compaltcare.com
X-WR-CALDESC:Events for Compassionate Alternative Care
REFRESH-INTERVAL;VALUE=DURATION:PT1H
X-Robots-Tag:noindex
X-PUBLISHED-TTL:PT1H
BEGIN:VTIMEZONE
TZID:UTC
BEGIN:STANDARD
TZOFFSETFROM:+0000
TZOFFSETTO:+0000
TZNAME:UTC
DTSTART:20240101T000000
END:STANDARD
END:VTIMEZONE
BEGIN:VEVENT
DTSTART;TZID=UTC:20260403T130000
DTEND;TZID=UTC:20260403T170000
DTSTAMP:20260424T232537
CREATED:20260402T163124Z
LAST-MODIFIED:20260402T163134Z
UID:7605-1775221200-1775235600@compaltcare.com
SUMMARY:Medical Marijuana Card Clinic
DESCRIPTION:Reserve your spot for our upcoming clinic 04/03/26 by giving us a call today!
URL:https://compaltcare.com/event/medical-marijuana-card-clinic-196/
LOCATION:Compassionate Alternative Care Jacksonville\, 728 Blanche St\, Suite #111\, Jacksonville\, FL\, 32204\, United States
CATEGORIES:Medical Marijuana Card Clinic
ATTACH;FMTTYPE=image/jpeg:https://compaltcare.com/wp-content/uploads/2025/05/CompAltCare-Logo-scaled.jpg
END:VEVENT
BEGIN:VEVENT
DTSTART;TZID=UTC:20260320T130000
DTEND;TZID=UTC:20260320T170000
DTSTAMP:20260424T232537
CREATED:20260318T152329Z
LAST-MODIFIED:20260318T152331Z
UID:7540-1774011600-1774026000@compaltcare.com
SUMMARY:Medical Marijuana Card Clinic
DESCRIPTION:Reserve your spot for our upcoming clinic 03/20/26 by giving us a call today!
URL:https://compaltcare.com/event/medical-marijuana-card-clinic-195/
LOCATION:Compassionate Alternative Care Jacksonville\, 728 Blanche St\, Suite #111\, Jacksonville\, FL\, 32204\, United States
CATEGORIES:Medical Marijuana Card Clinic
ATTACH;FMTTYPE=image/jpeg:https://compaltcare.com/wp-content/uploads/2025/05/CompAltCare-Logo-scaled.jpg
END:VEVENT
BEGIN:VEVENT
DTSTART;TZID=UTC:20260307T130000
DTEND;TZID=UTC:20260307T170000
DTSTAMP:20260424T232537
CREATED:20260304T005206Z
LAST-MODIFIED:20260304T005207Z
UID:7479-1772888400-1772902800@compaltcare.com
SUMMARY:Medical Marijuana Card Clinic
DESCRIPTION:Reserve your spot for our upcoming clinic 03/07/26 by giving us a call today!
URL:https://compaltcare.com/event/medical-marijuana-card-clinic-194/
LOCATION:Compassionate Alternative Care Jacksonville\, 728 Blanche St\, Suite #111\, Jacksonville\, FL\, 32204\, United States
CATEGORIES:Medical Marijuana Card Clinic
ATTACH;FMTTYPE=image/jpeg:https://compaltcare.com/wp-content/uploads/2025/05/CompAltCare-Logo-scaled.jpg
END:VEVENT
BEGIN:VEVENT
DTSTART;TZID=UTC:20260227T130000
DTEND;TZID=UTC:20260227T170000
DTSTAMP:20260424T232537
CREATED:20260224T144950Z
LAST-MODIFIED:20260224T144950Z
UID:7169-1772197200-1772211600@compaltcare.com
SUMMARY:Medical Marijuana Card Clinic
DESCRIPTION:Reserve your spot for our upcoming clinic 02/27/26 by giving us a call today!
URL:https://compaltcare.com/event/medical-marijuana-card-clinic-193/
LOCATION:Compassionate Alternative Care Jacksonville\, 728 Blanche St\, Suite #111\, Jacksonville\, FL\, 32204\, United States
CATEGORIES:Medical Marijuana Card Clinic
ATTACH;FMTTYPE=image/jpeg:https://compaltcare.com/wp-content/uploads/2025/05/CompAltCare-Logo-scaled.jpg
END:VEVENT
BEGIN:VEVENT
DTSTART;TZID=UTC:20260220T130000
DTEND;TZID=UTC:20260220T170000
DTSTAMP:20260424T232537
CREATED:20260218T155231Z
LAST-MODIFIED:20260218T155231Z
UID:7165-1771592400-1771606800@compaltcare.com
SUMMARY:Medical Marijuana Card Jacksonville
DESCRIPTION:Reserve your spot for our upcoming clinic 02/20/26 by giving us a call today!
URL:https://compaltcare.com/event/medical-marijuana-card-jacksonville/
LOCATION:FL
END:VEVENT
BEGIN:VEVENT
DTSTART;TZID=UTC:20260209T130000
DTEND;TZID=UTC:20260209T170000
DTSTAMP:20260424T232537
CREATED:20260209T152354Z
LAST-MODIFIED:20260218T154250Z
UID:7090-1770642000-1770656400@compaltcare.com
SUMMARY:Medical Marijuana Card Clinic
DESCRIPTION:Reserve your spot for our upcoming clinic 02/20/26 by giving us a call today!
URL:https://compaltcare.com/event/medical-marijuana-card-clinic-192/
LOCATION:Compassionate Alternative Care Jacksonville\, 728 Blanche St\, Suite #111\, Jacksonville\, FL\, 32204\, United States
ATTACH;FMTTYPE=image/jpeg:https://compaltcare.com/wp-content/uploads/2025/05/CompAltCare-Logo-scaled.jpg
END:VEVENT
BEGIN:VEVENT
DTSTART;TZID=UTC:20260206T133000
DTEND;TZID=UTC:20260206T170000
DTSTAMP:20260424T232537
CREATED:20260203T161319Z
LAST-MODIFIED:20260203T161320Z
UID:7060-1770384600-1770397200@compaltcare.com
SUMMARY:Medical Marijuana Card Clinic
DESCRIPTION:Reserve your spot for our upcoming clinic 02/06/26 by giving us a call today!
URL:https://compaltcare.com/event/medical-marijuana-card-clinic-191/
LOCATION:Compassionate Alternative Care Jacksonville\, 728 Blanche St\, Suite #111\, Jacksonville\, FL\, 32204\, United States
ATTACH;FMTTYPE=image/jpeg:https://compaltcare.com/wp-content/uploads/2025/05/CompAltCare-Logo-scaled.jpg
END:VEVENT
BEGIN:VEVENT
DTSTART;TZID=UTC:20260130T133000
DTEND;TZID=UTC:20260130T170000
DTSTAMP:20260424T232537
CREATED:20260126T181810Z
LAST-MODIFIED:20260126T181810Z
UID:6927-1769779800-1769792400@compaltcare.com
SUMMARY:Medical Marijuana Card Clinic
DESCRIPTION:Reserve your spot for our upcoming clinic 01/30/26 by giving us a call today!
URL:https://compaltcare.com/event/medical-marijuana-card-clinic-190/
LOCATION:Compassionate Alternative Care Jacksonville\, 728 Blanche St\, Suite #111\, Jacksonville\, FL\, 32204\, United States
ATTACH;FMTTYPE=image/jpeg:https://compaltcare.com/wp-content/uploads/2025/05/CompAltCare-Logo-scaled.jpg
END:VEVENT
BEGIN:VEVENT
DTSTART;TZID=UTC:20260123T090000
DTEND;TZID=UTC:20260123T170000
DTSTAMP:20260424T232537
CREATED:20260121T143424Z
LAST-MODIFIED:20260121T143425Z
UID:6921-1769158800-1769187600@compaltcare.com
SUMMARY:Medical Marijuana Card Clinic
DESCRIPTION:Reserve your spot for our upcoming clinic 01/23/26 by giving us a call today!
URL:https://compaltcare.com/event/medical-marijuana-card-clinic-189/
LOCATION:Compassionate Alternative Care Jacksonville\, 728 Blanche St\, Suite #111\, Jacksonville\, FL\, 32204\, United States
CATEGORIES:Medical Marijuana Card Clinic
ATTACH;FMTTYPE=image/jpeg:https://compaltcare.com/wp-content/uploads/2025/05/CompAltCare-Logo-scaled.jpg
END:VEVENT
BEGIN:VEVENT
DTSTART;TZID=UTC:20260116T133000
DTEND;TZID=UTC:20260116T170000
DTSTAMP:20260424T232537
CREATED:20260112T201851Z
LAST-MODIFIED:20260112T201852Z
UID:6908-1768570200-1768582800@compaltcare.com
SUMMARY:Medical Marijuana Card Clinic
DESCRIPTION:Reserve your spot for our upcoming clinic 01/16/26 by giving us a call today!
URL:https://compaltcare.com/event/medical-marijuana-card-clinic-188/
LOCATION:Compassionate Alternative Care Jacksonville\, 728 Blanche St\, Suite #111\, Jacksonville\, FL\, 32204\, United States
ATTACH;FMTTYPE=image/jpeg:https://compaltcare.com/wp-content/uploads/2025/05/CompAltCare-Logo-scaled.jpg
END:VEVENT
BEGIN:VEVENT
DTSTART;TZID=UTC:20260109T133000
DTEND;TZID=UTC:20260109T170000
DTSTAMP:20260424T232537
CREATED:20260106T004427Z
LAST-MODIFIED:20260106T004451Z
UID:6876-1767965400-1767978000@compaltcare.com
SUMMARY:Medical Marijuana Card Clinic
DESCRIPTION:Reserve your spot for our upcoming clinic 01/09/26 by giving us a call today!
URL:https://compaltcare.com/event/medical-marijuana-card-clinic-187/
LOCATION:Compassionate Alternative Care Jacksonville\, 728 Blanche St\, Suite #111\, Jacksonville\, FL\, 32204\, United States
CATEGORIES:Medical Marijuana Card Clinic
ATTACH;FMTTYPE=image/jpeg:https://compaltcare.com/wp-content/uploads/2025/05/CompAltCare-Logo-scaled.jpg
END:VEVENT
BEGIN:VEVENT
DTSTART;TZID=UTC:20260102T133000
DTEND;TZID=UTC:20260102T170000
DTSTAMP:20260424T232537
CREATED:20251230T224427Z
LAST-MODIFIED:20251230T224428Z
UID:6845-1767360600-1767373200@compaltcare.com
SUMMARY:Medical Marijuana Card Clinic
DESCRIPTION:Reserve your spot for our upcoming clinic 01/02/26 by giving us a call today!
URL:https://compaltcare.com/event/medical-marijuana-card-clinic-186/
LOCATION:Compassionate Alternative Care Jacksonville\, 728 Blanche St\, Suite #111\, Jacksonville\, FL\, 32204\, United States
ATTACH;FMTTYPE=image/jpeg:https://compaltcare.com/wp-content/uploads/2025/05/CompAltCare-Logo-scaled.jpg
END:VEVENT
BEGIN:VEVENT
DTSTART;TZID=UTC:20251226T130000
DTEND;TZID=UTC:20251226T170000
DTSTAMP:20260424T232537
CREATED:20251224T145704Z
LAST-MODIFIED:20251224T145705Z
UID:6842-1766754000-1766768400@compaltcare.com
SUMMARY:Medical Marijuana Card Clinic
DESCRIPTION:Reserve your spot for our upcoming clinic 12/26/25 by giving us a call today!
URL:https://compaltcare.com/event/medical-marijuana-card-clinic-185/
LOCATION:Compassionate Alternative Care Jacksonville\, 728 Blanche St\, Suite #111\, Jacksonville\, FL\, 32204\, United States
ATTACH;FMTTYPE=image/jpeg:https://compaltcare.com/wp-content/uploads/2025/05/CompAltCare-Logo-scaled.jpg
END:VEVENT
BEGIN:VEVENT
DTSTART;TZID=UTC:20251217T130000
DTEND;TZID=UTC:20251217T170000
DTSTAMP:20260424T232537
CREATED:20251217T160343Z
LAST-MODIFIED:20251217T160343Z
UID:6822-1765976400-1765990800@compaltcare.com
SUMMARY:Medical Marijuana Card Clinic
DESCRIPTION:Reserve your spot for our upcoming clinic 12/19/25 by giving us a call today!
URL:https://compaltcare.com/event/medical-marijuana-card-clinic-184/
LOCATION:Compassionate Alternative Care Jacksonville\, 728 Blanche St\, Suite #111\, Jacksonville\, FL\, 32204\, United States
ATTACH;FMTTYPE=image/jpeg:https://compaltcare.com/wp-content/uploads/2025/05/CompAltCare-Logo-scaled.jpg
END:VEVENT
BEGIN:VEVENT
DTSTART;TZID=UTC:20251212T130000
DTEND;TZID=UTC:20251212T170000
DTSTAMP:20260424T232537
CREATED:20251209T201943Z
LAST-MODIFIED:20251209T201944Z
UID:6788-1765544400-1765558800@compaltcare.com
SUMMARY:Medical Marijuana Card Clinic
DESCRIPTION:Reserve your spot for our upcoming clinic 12/12/25 by giving us a call today!
URL:https://compaltcare.com/event/medical-marijuana-card-clinic-183/
LOCATION:Compassionate Alternative Care Jacksonville\, 728 Blanche St\, Suite #111\, Jacksonville\, FL\, 32204\, United States
CATEGORIES:Medical Marijuana Card Clinic
ATTACH;FMTTYPE=image/jpeg:https://compaltcare.com/wp-content/uploads/2025/05/CompAltCare-Logo-scaled.jpg
END:VEVENT
BEGIN:VEVENT
DTSTART;TZID=UTC:20251205T130000
DTEND;TZID=UTC:20251205T170000
DTSTAMP:20260424T232537
CREATED:20251201T150914Z
LAST-MODIFIED:20251201T150915Z
UID:6770-1764939600-1764954000@compaltcare.com
SUMMARY:Medical Marijuana Card Clinic
DESCRIPTION:Reserve your spot for our upcoming clinic 12/05/25 by giving us a call today!
URL:https://compaltcare.com/event/medical-marijuana-card-clinic-182/
LOCATION:Compassionate Alternative Care Jacksonville\, 728 Blanche St\, Suite #111\, Jacksonville\, FL\, 32204\, United States
ATTACH;FMTTYPE=image/jpeg:https://compaltcare.com/wp-content/uploads/2025/05/CompAltCare-Logo-scaled.jpg
END:VEVENT
BEGIN:VEVENT
DTSTART;TZID=UTC:20251128T133000
DTEND;TZID=UTC:20251128T170000
DTSTAMP:20260424T232537
CREATED:20251128T155602Z
LAST-MODIFIED:20251128T155602Z
UID:6758-1764336600-1764349200@compaltcare.com
SUMMARY:Medical Marijuana Card Clinic
DESCRIPTION:Reserve your spot for our upcoming clinic 11/28/25 by giving us a call today!
URL:https://compaltcare.com/event/medical-marijuana-card-clinic-181/
LOCATION:Compassionate Alternative Care Jacksonville\, 728 Blanche St\, Suite #111\, Jacksonville\, FL\, 32204\, United States
CATEGORIES:Medical Marijuana Card Clinic
ATTACH;FMTTYPE=image/jpeg:https://compaltcare.com/wp-content/uploads/2025/05/CompAltCare-Logo-scaled.jpg
END:VEVENT
BEGIN:VEVENT
DTSTART;TZID=UTC:20251120T130000
DTEND;TZID=UTC:20251120T170000
DTSTAMP:20260424T232537
CREATED:20251120T144256Z
LAST-MODIFIED:20251120T144257Z
UID:6753-1763643600-1763658000@compaltcare.com
SUMMARY:Medical Marijuana Card Clinic
DESCRIPTION:Reserve your spot for our upcoming clinic 11/22/25 by giving us a call today!
URL:https://compaltcare.com/event/medical-marijuana-card-clinic-180/
LOCATION:Compassionate Alternative Care Jacksonville\, 728 Blanche St\, Suite #111\, Jacksonville\, FL\, 32204\, United States
ATTACH;FMTTYPE=image/jpeg:https://compaltcare.com/wp-content/uploads/2025/05/CompAltCare-Logo-scaled.jpg
END:VEVENT
BEGIN:VEVENT
DTSTART;TZID=UTC:20251114T140000
DTEND;TZID=UTC:20251114T170000
DTSTAMP:20260424T232537
CREATED:20251110T194312Z
LAST-MODIFIED:20251110T194312Z
UID:6732-1763128800-1763139600@compaltcare.com
SUMMARY:Medical Marijuana Card Clinic
DESCRIPTION:Reserve your spot for our upcoming clinic 11/14/25 by giving us a call today!
URL:https://compaltcare.com/event/medical-marijuana-card-clinic-179/
LOCATION:Compassionate Alternative Care Jacksonville\, 728 Blanche St\, Suite #111\, Jacksonville\, FL\, 32204\, United States
CATEGORIES:Medical Marijuana Card Clinic
ATTACH;FMTTYPE=image/png:https://compaltcare.com/wp-content/uploads/2021/08/compaltcare-icon.png
END:VEVENT
BEGIN:VEVENT
DTSTART;TZID=UTC:20251023T133000
DTEND;TZID=UTC:20251023T170000
DTSTAMP:20260424T232537
CREATED:20251020T135714Z
LAST-MODIFIED:20251020T135715Z
UID:6596-1761226200-1761238800@compaltcare.com
SUMMARY:Medical Marijuana Card Clinic
DESCRIPTION:Reserve your spot for our upcoming clinic 10/23/25 by giving us a call today!
URL:https://compaltcare.com/event/medical-marijuana-card-clinic-178/
LOCATION:Compassionate Alternative Care Jacksonville\, 728 Blanche St\, Suite #111\, Jacksonville\, FL\, 32204\, United States
ATTACH;FMTTYPE=image/png:https://compaltcare.com/wp-content/uploads/2021/08/compaltcare-icon.png
END:VEVENT
BEGIN:VEVENT
DTSTART;TZID=UTC:20251010T133000
DTEND;TZID=UTC:20251010T170000
DTSTAMP:20260424T232537
CREATED:20251009T141654Z
LAST-MODIFIED:20251009T141654Z
UID:6553-1760103000-1760115600@compaltcare.com
SUMMARY:Medical Marijuana Card Clinic
DESCRIPTION:Reserve your spot for our upcoming clinic 10/10/25 by giving us a call today!
URL:https://compaltcare.com/event/medical-marijuana-card-clinic-177/
LOCATION:Compassionate Alternative Care Jacksonville\, 728 Blanche St\, Suite #111\, Jacksonville\, FL\, 32204\, United States
ATTACH;FMTTYPE=image/jpeg:https://compaltcare.com/wp-content/uploads/2025/05/CompAltCare-Logo-scaled.jpg
END:VEVENT
BEGIN:VEVENT
DTSTART;TZID=UTC:20251004T133000
DTEND;TZID=UTC:20251004T170000
DTSTAMP:20260424T232537
CREATED:20251002T182935Z
LAST-MODIFIED:20251002T183047Z
UID:6509-1759584600-1759597200@compaltcare.com
SUMMARY:Medical Marijuana Card Clinic
DESCRIPTION:Reserve your spot for our upcoming clinic 10/04/25 by giving us a call today!
URL:https://compaltcare.com/event/medical-marijuana-card-clinic-176/
LOCATION:Compassionate Alternative Care Jacksonville\, 728 Blanche St\, Suite #111\, Jacksonville\, FL\, 32204\, United States
ATTACH;FMTTYPE=image/jpeg:https://compaltcare.com/wp-content/uploads/2025/05/CompAltCare-Logo-scaled.jpg
END:VEVENT
BEGIN:VEVENT
DTSTART;TZID=UTC:20250926T130000
DTEND;TZID=UTC:20250926T170000
DTSTAMP:20260424T232537
CREATED:20250922T142841Z
LAST-MODIFIED:20250922T142841Z
UID:6429-1758891600-1758906000@compaltcare.com
SUMMARY:Medical Marijuana Card Clinic
DESCRIPTION:Reserve your spot for our upcoming clinic 9/26/25 by giving us a call today!
URL:https://compaltcare.com/event/medical-marijuana-card-clinic-175/
LOCATION:Compassionate Alternative Care West Palm Beach\, 2054 Vista Parkway\, West Palm Beach\, FL\, 33411\, United States
ATTACH;FMTTYPE=image/jpeg:https://compaltcare.com/wp-content/uploads/2025/05/CompAltCare-Logo-scaled.jpg
END:VEVENT
BEGIN:VEVENT
DTSTART;TZID=UTC:20250926T130000
DTEND;TZID=UTC:20250926T170000
DTSTAMP:20260424T232537
CREATED:20250922T142800Z
LAST-MODIFIED:20250922T142801Z
UID:6427-1758891600-1758906000@compaltcare.com
SUMMARY:Medical Marijuana Card Clinic
DESCRIPTION:Reserve your spot for our upcoming clinic 9/26/25 by giving us a call today!
URL:https://compaltcare.com/event/medical-marijuana-card-clinic-174/
LOCATION:Compassionate Alternative Care Jacksonville\, 728 Blanche St\, Suite #111\, Jacksonville\, FL\, 32204\, United States
ATTACH;FMTTYPE=image/jpeg:https://compaltcare.com/wp-content/uploads/2025/05/CompAltCare-Logo-scaled.jpg
END:VEVENT
BEGIN:VEVENT
DTSTART;TZID=UTC:20250919T130000
DTEND;TZID=UTC:20250919T170000
DTSTAMP:20260424T232537
CREATED:20250917T165038Z
LAST-MODIFIED:20250917T165039Z
UID:6411-1758286800-1758301200@compaltcare.com
SUMMARY:Medical Marijuana Card Clinic
DESCRIPTION:Reserve your spot for our upcoming clinic 9/19/25 by giving us a call today!
URL:https://compaltcare.com/event/medical-marijuana-card-clinic-173/
LOCATION:Compassionate Alternative Care West Palm Beach\, 2054 Vista Parkway\, West Palm Beach\, FL\, 33411\, United States
ATTACH;FMTTYPE=image/jpeg:https://compaltcare.com/wp-content/uploads/2025/05/CompAltCare-Logo-scaled.jpg
END:VEVENT
BEGIN:VEVENT
DTSTART;TZID=UTC:20250919T130000
DTEND;TZID=UTC:20250919T170000
DTSTAMP:20260424T232537
CREATED:20250917T164903Z
LAST-MODIFIED:20250917T164904Z
UID:6409-1758286800-1758301200@compaltcare.com
SUMMARY:Medical Marijuana Card Clinic
DESCRIPTION:Reserve your spot for our upcoming clinic 9/19/25 by giving us a call today!
URL:https://compaltcare.com/event/medical-marijuana-card-clinic-172/
LOCATION:Compassionate Alternative Care Jacksonville\, 728 Blanche St\, Suite #111\, Jacksonville\, FL\, 32204\, United States
ATTACH;FMTTYPE=image/jpeg:https://compaltcare.com/wp-content/uploads/2025/05/CompAltCare-Logo-scaled.jpg
END:VEVENT
BEGIN:VEVENT
DTSTART;TZID=UTC:20250829T130000
DTEND;TZID=UTC:20250829T170000
DTSTAMP:20260424T232537
CREATED:20250823T154656Z
LAST-MODIFIED:20250823T154656Z
UID:6342-1756472400-1756486800@compaltcare.com
SUMMARY:Medical Marijuana Card Clinic
DESCRIPTION:Reserve your spot for our upcoming clinic 8/29/25 by giving us a call today!
URL:https://compaltcare.com/event/medical-marijuana-card-clinic-171/
LOCATION:Compassionate Alternative Care West Palm Beach\, 2054 Vista Parkway\, West Palm Beach\, FL\, 33411\, United States
ATTACH;FMTTYPE=image/jpeg:https://compaltcare.com/wp-content/uploads/2025/05/CompAltCare-Logo-scaled.jpg
END:VEVENT
BEGIN:VEVENT
DTSTART;TZID=UTC:20250829T130000
DTEND;TZID=UTC:20250829T170000
DTSTAMP:20260424T232537
CREATED:20250823T154608Z
LAST-MODIFIED:20250823T154608Z
UID:6340-1756472400-1756486800@compaltcare.com
SUMMARY:Medical Marijuana Card Clinic
DESCRIPTION:Reserve your spot for our upcoming clinic 8/29/25 by giving us a call today!
URL:https://compaltcare.com/event/medical-marijuana-card-clinic-170/
LOCATION:Compassionate Alternative Care Jacksonville\, 728 Blanche St\, Suite #111\, Jacksonville\, FL\, 32204\, United States
ATTACH;FMTTYPE=image/jpeg:https://compaltcare.com/wp-content/uploads/2025/05/CompAltCare-Logo-scaled.jpg
END:VEVENT
BEGIN:VEVENT
DTSTART;TZID=UTC:20250822T130000
DTEND;TZID=UTC:20250822T170000
DTSTAMP:20260424T232537
CREATED:20250819T161423Z
LAST-MODIFIED:20250819T161423Z
UID:6292-1755867600-1755882000@compaltcare.com
SUMMARY:Medical Marijuana Card Clinic
DESCRIPTION:Reserve your spot for our upcoming clinic 8/22/25 by giving us a call today!
URL:https://compaltcare.com/event/medical-marijuana-card-clinic-168/
LOCATION:Compassionate Alternative Care Jacksonville\, 728 Blanche St\, Suite #111\, Jacksonville\, FL\, 32204\, United States
ATTACH;FMTTYPE=image/jpeg:https://compaltcare.com/wp-content/uploads/2025/05/CompAltCare-Logo-scaled.jpg
END:VEVENT
BEGIN:VEVENT
DTSTART;TZID=UTC:20250819T130000
DTEND;TZID=UTC:20250819T170000
DTSTAMP:20260424T232537
CREATED:20250819T161515Z
LAST-MODIFIED:20250819T161516Z
UID:6294-1755608400-1755622800@compaltcare.com
SUMMARY:Medical Marijuana Card Clinic
DESCRIPTION:Reserve your spot for our upcoming clinic 8/22/25 by giving us a call today!
URL:https://compaltcare.com/event/medical-marijuana-card-clinic-169/
LOCATION:Compassionate Alternative Care West Palm Beach\, 2054 Vista Parkway\, West Palm Beach\, FL\, 33411\, United States
ATTACH;FMTTYPE=image/jpeg:https://compaltcare.com/wp-content/uploads/2025/05/CompAltCare-Logo-scaled.jpg
END:VEVENT
END:VCALENDAR